Workbook

Sheet 운영현황
A1: 인증번호 | B1: 활동명 | C1: 활동유형 | D1: 기관명 | E1: 컨소시엄 기관명 | F1: 기관유형1 | G1: 기관유형 | H1: 지역 | I1: 운영방식 | J1: 의무인증여부 | K1: 일정규모 | L1: 위험도높은활동 | M1: 위험도높은활동 내용 | N1: 안전고려활동 | O1: 활동영역 | P1: 참가비 | Q1: 활동인원 | R1: 대상교급 | S1: 유효기간 시작일자 | T1: 유효기간 종료일자 | U1: 최종 승인된 중지기간 | V1: 기관전화번호 | W1: 기관팩스번호 | X1: 주소 | Y1: 모집방법
A2: 1629 | B2: 청소년의 아름다운 날개짓 `ECO 나비효과` | C2: 기본형 | D2: 부산광역시양정청소년수련관 | E2: =VLOOKUP(A2,[1]운영현황_NEW!$B$4:$AA$3661,26,0) | F2: =VLOOKUP(G2,[2]변환기준!$D$1:$E$24,2,0) -> 청소년수련시설 | G2: 청소년수련관 | H2: 부산광역시 | I2: 대면활동 | J2: 해당없음 | K2: 미해당 | L2: 미해당 | O2: 환경보존활동 | P2: 0 | Q2: 25 | R2: 초 | S2: 2012-06-13 | T2: 2026-06-16 | U2: 2020-10-25 ~ 2021-10-24 | V2: 051-868-0750 | W2: 051-868-1258 | X2: 부산 부산진구 양정2동 260-5번지 부산광역시양정청소년수련관 | Y2: 개별모집
A3: 6448 | B3: 요리 쿡(Cook), 조리 톡(Talk) | C3: 기본형 | D3: 의정부시청소년수련관 | E3: =VLOOKUP(A3,[1]운영현황_NEW!$B$4:$AA$3661,26,0) | F3: =VLOOKUP(G3,[2]변환기준!$D$1:$E$24,2,0) -> 청소년수련시설 | G3: 청소년수련관 | H3: 경기도 | I3: 대면활동 | J3: 해당없음 | K3: 미해당 | L3: 미해당 | O3: 건강·보건활동 | P3: 40000 | Q3: 20 | R3: 초 | S3: 2017-04-06 | T3: 2026-04-28 | U3: ~ | V3: 031-828-9500 | W3: 031-828-9509 | X3: 경기도 의정부시 의정로 27 (의정부동) 의정부시청소년수련관 | Y3: 개별모집
A4: 8159 | B4: 우리들의 도전 그리고 소통(중학교 1박2일) | C4: 학교단체 숙박형 | D4: 속리산알프스청소년수련원 | E4: =VLOOKUP(A4,[1]운영현황_NEW!$B$4:$AA$3661,26,0) | F4: =VLOOKUP(G4,[2]변환기준!$D$1:$E$24,2,0) -> 청소년수련시설 | G4: 청소년수련원 | H4: 충청북도 | I4: 대면활동 | J4: 일정규모 | K4: 해당 | L4: 미해당 | O4: 자기(인성)계발활동 | P4: 58900 | Q4: 390 | R4: 중 | S4: 2019-01-09 | T4: 2026-01-06 | U4: 2020-11-12 ~ 2021-11-11 | V4: 043-544-8800 | W4: 070-7614-3933 | X4: 충청북도 보은군 산외면 산외로 596-28 속리산알프스청소년수련원 | Y4: 단체모집
A5: 8166 | B5: Enioy In 알프스(초등학교 2박3일) | C5: 학교단체 숙박형 | D5: 속리산알프스청소년수련원 | E5: =VLOOKUP(A5,[1]운영현황_NEW!$B$4:$AA$3661,26,0) | F5: =VLOOKUP(G5,[2]변환기준!$D$1:$E$24,2,0) -> 청소년수련시설 | G5: 청소년수련원 | H5: 충청북도 | I5: 대면활동 | J5: 일정규모 | K5: 해당 | L5: 미해당 | O5: 자기(인성)계발활동 | P5: 101000 | Q5: 390 | R5: 초 | S5: 2019-01-09 | T5: 2026-01-07 | U5: 2020-11-12 ~ 2021-11-11 | V5: 043-544-8800 | W5: 070-7614-3933 | X5: 충청북도 보은군 산외면 산외로 596-28 속리산알프스청소년수련원 | Y5: 단체모집
A6: 8147 | B6: 도전하고,화합하고,지혜모아!!(1박2일 고등학교) | C6: 학교단체 숙박형 | D6: 해운청소년수련원 | E6: =VLOOKUP(A6,[1]운영현황_NEW!$B$4:$AA$3661,26,0) | F6: =VLOOKUP(G6,[2]변환기준!$D$1:$E$24,2,0) -> 청소년수련시설 | G6: 청소년수련원 | H6: 경상남도 | I6: 대면활동 | J6: 일정규모 | K6: 해당 | L6: 미해당 | O6: 자기(인성)계발활동 | P6: 57000 | Q6: 300 | R6: 고 | S6: 2019-01-09 | T6: 2026-01-07 | U6: 2020-12-25 ~ 2021-12-24 | V6: 055-384-0061 | W6: 055-372-7070 | X6: 경상남도 양산시 하북면 삼수온천길 27 해운개발(주) | Y6: 단체모집
A7: 8146 | B7: 도전하고,화합하고,지혜모아!! (1박2일 중학교) | C7: 학교단체 숙박형 | D7: 해운청소년수련원 | E7: =VLOOKUP(A7,[1]운영현황_NEW!$B$4:$AA$3661,26,0) | F7: =VLOOKUP(G7,[2]변환기준!$D$1:$E$24,2,0) -> 청소년수련시설 | G7: 청소년수련원 | H7: 경상남도 | I7: 대면활동 | J7: 일정규모 | K7: 해당 | L7: 미해당 | O7: 자기(인성)계발활동 | P7: 56000 | Q7: 300 | R7: 중 | S7: 2019-01-09 | T7: 2026-01-07 | U7: 2020-12-25 ~ 2021-12-24 | V7: 055-384-0061 | W7: 055-372-7070 | X7: 경상남도 양산시 하북면 삼수온천길 27 해운개발(주) | Y7: 단체모집
A8: 8169 | B8: 시대별중급과정 01 (초등학교) | C8: 기본형 | D8: (주)답사친구 | E8: =VLOOKUP(A8,[1]운영현황_NEW!$B$4:$AA$3661,26,0) | F8: =VLOOKUP(G8,[2]변환기준!$D$1:$E$24,2,0) -> 일반 | G8: 영리법인 | H8: 울산광역시 | I8: 대면활동 | J8: 해당없음 | K8: 미해당 | L8: 미해당 | O8: 자기(인성)계발활동 | P8: 225000 | Q8: 40 | R8: 초 | S8: 2019-01-09 | T8: 2026-01-07 | U8: 2020-11-09 ~ 2021-11-08 | V8: 052-223-2279 | W8: 052-267-2279 | X8: 울산광역시 울주군 범서읍 천상1길 20-13 답사친구 | Y8: 개별모집
A9: 8160 | B9: 시대별중급과정 03 (초등학교) | C9: 기본형 | D9: (주)답사친구 | E9: =VLOOKUP(A9,[1]운영현황_NEW!$B$4:$AA$3661,26,0) | F9: =VLOOKUP(G9,[2]변환기준!$D$1:$E$24,2,0) -> 일반 | G9: 영리법인 | H9: 울산광역시 | I9: 대면활동 | J9: 해당없음 | K9: 미해당 | L9: 미해당 | O9: 자기(인성)계발활동 | P9: 225000 | Q9: 40 | R9: 초 | S9: 2019-01-09 | T9: 2026-01-07 | U9: 2020-11-09 ~ 2021-11-08 | V9: 052-223-2279 | W9: 052-267-2279 | X9: 울산광역시 울주군 범서읍 천상1길 20-13 답사친구 | Y9: 개별모집
A10: 8151 | B10: 한양나들이 서울투어 C-1 -덕수궁, 서울시청, 남산골한옥마을- (초등학교) | C10: 기본형 | D10: 콜럼버스 | E10: =VLOOKUP(A10,[1]운영현황_NEW!$B$4:$AA$3661,26,0) | F10: =VLOOKUP(G10,[2]변환기준!$D$1:$E$24,2,0) -> 일반 | G10: 개인사업 | H10: 서울특별시 | I10: 대면활동 | J10: 해당없음 | K10: 미해당 | L10: 미해당 | O10: 문화예술활동 | P10: 15000 | Q10: 130 | R10: 초 | S10: 2019-01-09 | T10: 2026-01-07 | U10: 2020-10-30 ~ 2021-10-29 | V10: 02-2678-0889 | W10: 02-2679-0885 | X10: 서울특별시 강서구 마곡중앙2로 5 (마곡동) 1018호 | Y10: 단체모집
A11: 8150 | B11: 한양나들이 서울투어 B-1 -창덕궁, 서울역사박물관, 서울시청- (초등학교) | C11: 기본형 | D11: 콜럼버스 | E11: =VLOOKUP(A11,[1]운영현황_NEW!$B$4:$AA$3661,26,0) | F11: =VLOOKUP(G11,[2]변환기준!$D$1:$E$24,2,0) -> 일반 | G11: 개인사업 | H11: 서울특별시 | I11: 대면활동 | J11: 해당없음 | K11: 미해당 | L11: 미해당 | O11: 문화예술활동 | P11: 13500 | Q11: 130 | R11: 초 | S11: 2019-01-09 | T11: 2026-01-07 | U11: 2020-10-30 ~ 2021-10-29 | V11: 02-2678-0889 | W11: 02-2679-0885 | X11: 서울특별시 강서구 마곡중앙2로 5 (마곡동) 1018호 | Y11: 단체모집
A12: 8149 | B12: 한양나들이 서울투어 A-1 -경복궁, 남산골한옥마을- (초등학교) | C12: 기본형 | D12: 콜럼버스 | E12: =VLOOKUP(A12,[1]운영현황_NEW!$B$4:$AA$3661,26,0) | F12: =VLOOKUP(G12,[2]변환기준!$D$1:$E$24,2,0) -> 일반 | G12: 개인사업 | H12: 서울특별시 | I12: 대면활동 | J12: 해당없음 | K12: 미해당 | L12: 미해당 | O12: 문화예술활동 | P12: 15000 | Q12: 130 | R12: 초 | S12: 2019-01-09 | T12: 2026-01-07 | U12: 2020-10-30 ~ 2021-10-29 | V12: 02-2678-0889 | W12: 02-2679-0885 | X12: 서울특별시 강서구 마곡중앙2로 5 (마곡동) 1018호 | Y12: 단체모집
A13: 8216 | B13: 붕우유신을 찾아서(초등학교 2박3일) | C13: 학교단체 숙박형 | D13: 부여군청소년수련원 | E13: =VLOOKUP(A13,[1]운영현황_NEW!$B$4:$AA$3661,26,0) | F13: =VLOOKUP(G13,[2]변환기준!$D$1:$E$24,2,0) -> 청소년수련시설 | G13: 청소년수련원 | H13: 충청남도 | I13: 대면활동 | J13: 복수해당 | K13: 해당 | L13: 해당 | M13: 그 밖의 활동 하강레포츠 | O13: 모험개척활동 | P13: 90400 | Q13: 300 | R13: 초 | S13: 2019-02-07 | T13: 2026-01-06 | U13: 2021-04-12 ~ 2022-04-11 | V13: 041-835-5502 | W13: 041-835-5504 | X13: 충청남도 부여군 충화면 가화리 313 부여군청소년수련원 | Y13: 단체모집
A14: 8248 | B14: 힘찬도전, 함께하는 우리!! (중학교 2박3일) | C14: 학교단체 숙박형 | D14: 해운청소년수련원 | E14: =VLOOKUP(A14,[1]운영현황_NEW!$B$4:$AA$3661,26,0) | F14: =VLOOKUP(G14,[2]변환기준!$D$1:$E$24,2,0) -> 청소년수련시설 | G14: 청소년수련원 | H14: 경상남도 | I14: 대면활동 | J14: 복수해당 | K14: 해당 | L14: 해당 | M14: 수상활동 고무보트 | O14: 자기(인성)계발활동 | P14: 94000 | Q14: 450 | R14: 중 | S14: 2019-02-07 | T14: 2026-02-05 | U14: 2020-12-25 ~ 2021-12-24 | V14: 055-384-0061 | W14: 055-372-7070 | X14: 경상남도 양산시 하북면 삼수온천길 27 해운개발(주) | Y14: 단체모집
A15: 8212 | B15: 수련활동의 확실한 행복 (고등학교 1박 2일) | C15: 학교단체 숙박형 | D15: 김포시청소년수련원 | E15: =VLOOKUP(A15,[1]운영현황_NEW!$B$4:$AA$3661,26,0) | F15: =VLOOKUP(G15,[2]변환기준!$D$1:$E$24,2,0) -> 청소년수련시설 | G15: 청소년수련원 | H15: 경기도 | I15: 대면활동 | J15: 복수해당 | K15: 해당 | L15: 해당 | M15: 그 밖의 활동 하강레포츠 | O15: 모험개척활동 | P15: 55500 | Q15: 360 | R15: 고 | S15: 2019-02-07 | T15: 2026-02-05 | U15: 2020-11-22 ~ 2021-11-21 | V15: 070-7542-7505 | W15: 031-989-6710 | X15: 경기도 김포시 월곶면 용강로13번길 38 김포시청소년수련원 | Y15: 단체모집
A16: 8198 | B16: 하나되는 공동체수련활동 유비무환 2형(고등학교 2박3일) | C16: 학교단체 숙박형 | D16: 통영시청소년수련원 | E16: =VLOOKUP(A16,[1]운영현황_NEW!$B$4:$AA$3661,26,0) | F16: =VLOOKUP(G16,[2]변환기준!$D$1:$E$24,2,0) -> 청소년수련시설 | G16: 청소년수련원 | H16: 경상남도 | I16: 대면활동 | J16: 복수해당 | K16: 해당 | L16: 해당 | M16: 수상활동 고무보트 | O16: 모험개척활동 | P16: 105000 | Q16: 400 | R16: 고 | S16: 2019-02-07 | T16: 2026-02-05 | U16: 2020-11-08 ~ 2021-11-07 | V16: 055-646-7925 | W16: 055-641-7942 | X16: 경상남도 통영시 발개로 194 (도남동) 통영시청소년수련원 | Y16: 단체모집
A17: 8188 | B17: 수련활동의 확실한 행복 (고등학교 2박3일) | C17: 학교단체 숙박형 | D17: 김포시청소년수련원 | E17: =VLOOKUP(A17,[1]운영현황_NEW!$B$4:$AA$3661,26,0) | F17: =VLOOKUP(G17,[2]변환기준!$D$1:$E$24,2,0) -> 청소년수련시설 | G17: 청소년수련원 | H17: 경기도 | I17: 대면활동 | J17: 복수해당 | K17: 해당 | L17: 해당 | M17: 그 밖의 활동 하강레포츠 | O17: 기타 | P17: 84800 | Q17: 360 | R17: 고 | S17: 2019-02-07 | T17: 2026-02-05 | U17: 2020-11-22 ~ 2021-11-21 | V17: 070-7542-7505 | W17: 031-989-6710 | X17: 경기도 김포시 월곶면 용강로13번길 38 김포시청소년수련원 | Y17: 단체모집
A18: 8187 | B18: 수련활동의 확실한 행복 (중학교 2박3일) | C18: 학교단체 숙박형 | D18: 김포시청소년수련원 | E18: =VLOOKUP(A18,[1]운영현황_NEW!$B$4:$AA$3661,26,0) | F18: =VLOOKUP(G18,[2]변환기준!$D$1:$E$24,2,0) -> 청소년수련시설 | G18: 청소년수련원 | H18: 경기도 | I18: 대면활동 | J18: 복수해당 | K18: 해당 | L18: 해당 | M18: 그 밖의 활동 하강레포츠 | O18: 모험개척활동 | P18: 82500 | Q18: 360 | R18: 중 | S18: 2019-02-07 | T18: 2026-02-05 | U18: 2020-11-22 ~ 2021-11-21 | V18: 070-7542-7505 | W18: 031-989-6710 | X18: 경기도 김포시 월곶면 용강로13번길 38 김포시청소년수련원 | Y18: 단체모집
A19: 8186 | B19: 수련활동의 확실한 행복 (초등학교 2박3일) | C19: 학교단체 숙박형 | D19: 김포시청소년수련원 | E19: =VLOOKUP(A19,[1]운영현황_NEW!$B$4:$AA$3661,26,0) | F19: =VLOOKUP(G19,[2]변환기준!$D$1:$E$24,2,0) -> 청소년수련시설 | G19: 청소년수련원 | H19: 경기도 | I19: 대면활동 | J19: 복수해당 | K19: 해당 | L19: 해당 | M19: 그 밖의 활동 하강레포츠 | O19: 모험개척활동 | P19: 79400 | Q19: 260 | R19: 초 | S19: 2019-02-07 | T19: 2026-02-05 | U19: 2020-11-22 ~ 2021-11-21 | V19: 070-7542-7505 | W19: 031-989-6710 | X19: 경기도 김포시 월곶면 용강로13번길 38 김포시청소년수련원 | Y19: 단체모집
A20: 8209 | B20: 꿈과 끼를 찾아 떠나는 별새꽃돌 진로과학캠프(중학교 2박3일) | C20: 학교단체 숙박형 | D20: 사단법인 별새꽃돌과학관 | E20: =VLOOKUP(A20,[1]운영현황_NEW!$B$4:$AA$3661,26,0) | F20: =VLOOKUP(G20,[2]변환기준!$D$1:$E$24,2,0) -> 일반 | G20: 비영리법인 | H20: 충청북도 | I20: 대면활동 | J20: 일정규모 | K20: 해당 | L20: 미해당 | O20: 과학정보활동 | P20: 150000 | Q20: 240 | R20: 중 | S20: 2019-02-07 | T20: 2026-02-05 | U20: 2020-12-25 ~ 2021-12-24 | V20: 043-653-6534 | W20: 043-653-1015 | X20: 충북 제천시 봉양읍 옥전리 2리 913번지 | Y20: 단체모집
A21: 8208 | B21: 오감으로 즐기는 별새꽃돌 진로과학캠프(초등학교 2박3일) | C21: 학교단체 숙박형 | D21: 사단법인 별새꽃돌과학관 | E21: =VLOOKUP(A21,[1]운영현황_NEW!$B$4:$AA$3661,26,0) | F21: =VLOOKUP(G21,[2]변환기준!$D$1:$E$24,2,0) -> 일반 | G21: 비영리법인 | H21: 충청북도 | I21: 대면활동 | J21: 일정규모 | K21: 해당 | L21: 미해당 | O21: 과학정보활동 | P21: 140000 | Q21: 240 | R21: 초 | S21: 2019-02-07 | T21: 2026-02-05 | U21: 2020-12-25 ~ 2021-12-24 | V21: 043-653-6534 | W21: 043-653-1015 | X21: 충북 제천시 봉양읍 옥전리 2리 913번지 | Y21: 단체모집
A22: 8207 | B22: 꿈과 끼를 찾아 떠나는 별새꽃돌 과학진로캠프(중학교 1박2일) | C22: 학교단체 숙박형 | D22: 사단법인 별새꽃돌과학관 | E22: =VLOOKUP(A22,[1]운영현황_NEW!$B$4:$AA$3661,26,0) | F22: =VLOOKUP(G22,[2]변환기준!$D$1:$E$24,2,0) -> 일반 | G22: 비영리법인 | H22: 충청북도 | I22: 대면활동 | J22: 일정규모 | K22: 해당 | L22: 미해당 | O22: 과학정보활동 | P22: 75000 | Q22: 240 | R22: 중 | S22: 2019-02-07 | T22: 2026-02-05 | U22: 2020-12-25 ~ 2021-12-24 | V22: 043-653-6534 | W22: 043-653-1015 | X22: 충북 제천시 봉양읍 옥전리 2리 913번지 | Y22: 단체모집
A23: 8206 | B23: 오감으로 즐기는 별새꽃돌 진로과학캠프(초등학교 1박2일) | C23: 학교단체 숙박형 | D23: 사단법인 별새꽃돌과학관 | E23: =VLOOKUP(A23,[1]운영현황_NEW!$B$4:$AA$3661,26,0) | F23: =VLOOKUP(G23,[2]변환기준!$D$1:$E$24,2,0) -> 일반 | G23: 비영리법인 | H23: 충청북도 | I23: 대면활동 | J23: 일정규모 | K23: 해당 | L23: 미해당 | O23: 과학정보활동 | P23: 70000 | Q23: 240 | R23: 초 | S23: 2019-02-07 | T23: 2026-02-05 | U23: 2020-12-25 ~ 2021-12-24 | V23: 043-653-6534 | W23: 043-653-1015 | X23: 충북 제천시 봉양읍 옥전리 2리 913번지 | Y23: 단체모집
A24: 8199 | B24: 하이파이브(초등학교 2박3일) | C24: 학교단체 숙박형 | D24: 영산수련원 | E24: =VLOOKUP(A24,[1]운영현황_NEW!$B$4:$AA$3661,26,0) | F24: =VLOOKUP(G24,[2]변환기준!$D$1:$E$24,2,0) -> 청소년수련시설 | G24: 청소년수련원 | H24: 경기도 | I24: 대면활동 | J24: 일정규모 | K24: 해당 | L24: 미해당 | O24: 자기(인성)계발활동 | P24: 142000 | Q24: 200 | R24: 초 | S24: 2019-02-07 | T24: 2026-02-05 | U24: 2020-12-25 ~ 2021-12-24 | V24: 031-934-7777 | W24: 031-934-7779 | X24: 경기도 파주시 조리읍 등원로391번길 40 영산수련원 | Y24: 단체모집
A25: MD0175 | B25: 단결! 팀빌딩 어드벤처(고등학생) | C25: 개별단위 | D25: 통영시청소년수련원 | E25: =VLOOKUP(A25,[1]운영현황_NEW!$B$4:$AA$3661,26,0) | F25: =VLOOKUP(G25,[2]변환기준!$D$1:$E$24,2,0) -> 청소년수련시설 | G25: 청소년수련원 | H25: 경상남도 | I25: 대면활동 | J25: 해당없음 | K25: 미해당 | L25: 미해당 | O25: 모험개척활동 | Q25: 100 | R25: 고 | S25: 2019-02-07 | T25: 2026-02-05 | U25: 2020-11-08 ~ 2021-11-07 | V25: 055-646-7925 | W25: 055-641-7942 | X25: 경상남도 통영시 발개로 194 (도남동) 통영시청소년수련원 | Y25: 단체모집
A26: MD0174 | B26: 단결! 팀빌딩 어드벤처(중학생) | C26: 개별단위 | D26: 통영시청소년수련원 | E26: =VLOOKUP(A26,[1]운영현황_NEW!$B$4:$AA$3661,26,0) | F26: =VLOOKUP(G26,[2]변환기준!$D$1:$E$24,2,0) -> 청소년수련시설 | G26: 청소년수련원 | H26: 경상남도 | I26: 대면활동 | J26: 해당없음 | K26: 미해당 | L26: 미해당 | O26: 모험개척활동 | Q26: 100 | R26: 중 | S26: 2019-02-07 | T26: 2026-02-05 | U26: 2020-11-08 ~ 2021-11-07 | V26: 055-646-7925 | W26: 055-641-7942 | X26: 경상남도 통영시 발개로 194 (도남동) 통영시청소년수련원 | Y26: 단체모집
A27: 8192 | B27: 역사의 섬, 강화도 (초등학교) | C27: 기본형 | D27: 콜럼버스 | E27: =VLOOKUP(A27,[1]운영현황_NEW!$B$4:$AA$3661,26,0) | F27: =VLOOKUP(G27,[2]변환기준!$D$1:$E$24,2,0) -> 일반 | G27: 개인사업 | H27: 서울특별시 | I27: 대면활동 | J27: 해당없음 | K27: 미해당 | L27: 미해당 | O27: 문화예술활동 | P27: 15000 | Q27: 130 | R27: 초 | S27: 2019-02-07 | T27: 2026-02-05 | U27: 2020-10-30 ~ 2021-10-29 | V27: 02-2678-0889 | W27: 02-2679-0885 | X27: 서울특별시 강서구 마곡중앙2로 5 (마곡동) 1018호 | Y27: 단체모집
A28: 8191 | B28: 세계문화유산 -수원화성- (초등학교) | C28: 기본형 | D28: 콜럼버스 | E28: =VLOOKUP(A28,[1]운영현황_NEW!$B$4:$AA$3661,26,0) | F28: =VLOOKUP(G28,[2]변환기준!$D$1:$E$24,2,0) -> 일반 | G28: 개인사업 | H28: 서울특별시 | I28: 대면활동 | J28: 해당없음 | K28: 미해당 | L28: 미해당 | O28: 문화예술활동 | P28: 14000 | Q28: 130 | R28: 초 | S28: 2019-02-07 | T28: 2026-02-05 | U28: 2020-10-30 ~ 2021-10-29 | V28: 02-2678-0889 | W28: 02-2679-0885 | X28: 서울특별시 강서구 마곡중앙2로 5 (마곡동) 1018호 | Y28: 단체모집
A29: 8305 | B29: 호연지기 백제(중학교 2박3일) | C29: 학교단체 숙박형 | D29: 부여군청소년수련원 | E29: =VLOOKUP(A29,[1]운영현황_NEW!$B$4:$AA$3661,26,0) | F29: =VLOOKUP(G29,[2]변환기준!$D$1:$E$24,2,0) -> 청소년수련시설 | G29: 청소년수련원 | H29: 충청남도 | I29: 대면활동 | J29: 복수해당 | K29: 해당 | L29: 해당 | M29: 그 밖의 활동 하강레포츠 | O29: 모험개척활동 | P29: 89200 | Q29: 400 | R29: 중 | S29: 2019-03-06 | T29: 2026-02-02 | U29: 2021-04-12 ~ 2022-04-11 | V29: 041-835-5502 | W29: 041-835-5504 | X29: 충청남도 부여군 충화면 가화리 313 부여군청소년수련원 | Y29: 단체모집
A30: 8347 | B30: 수련활동으로 확실한 꿈찾기 (고등학교 2박3일) | C30: 학교단체 숙박형 | D30: 김포시청소년수련원 | E30: =VLOOKUP(A30,[1]운영현황_NEW!$B$4:$AA$3661,26,0) | F30: =VLOOKUP(G30,[2]변환기준!$D$1:$E$24,2,0) -> 청소년수련시설 | G30: 청소년수련원 | H30: 경기도 | I30: 대면활동 | J30: 복수해당 | K30: 해당 | L30: 해당 | M30: 그 밖의 활동 하강레포츠 | O30: 직업체험활동 | P30: 99800 | Q30: 360 | R30: 고 | S30: 2019-03-06 | T30: 2026-03-04 | U30: 2020-11-22 ~ 2021-11-21 | V30: 070-7542-7505 | W30: 031-989-6710 | X30: 경기도 김포시 월곶면 용강로13번길 38 김포시청소년수련원 | Y30: 단체모집
A31: 8346 | B31: 수련활동으로 확실한 꿈찾기 (중학교 2박3일) | C31: 학교단체 숙박형 | D31: 김포시청소년수련원 | E31: =VLOOKUP(A31,[1]운영현황_NEW!$B$4:$AA$3661,26,0) | F31: =VLOOKUP(G31,[2]변환기준!$D$1:$E$24,2,0) -> 청소년수련시설 | G31: 청소년수련원 | H31: 경기도 | I31: 대면활동 | J31: 복수해당 | K31: 해당 | L31: 해당 | M31: 그 밖의 활동 하강레포츠 | O31: 직업체험활동 | P31: 97500 | Q31: 360 | R31: 중 | S31: 2019-03-06 | T31: 2026-03-04 | U31: 2020-11-22 ~ 2021-11-21 | V31: 070-7542-7505 | W31: 031-989-6710 | X31: 경기도 김포시 월곶면 용강로13번길 38 김포시청소년수련원 | Y31: 단체모집
A32: 8324 | B32: 힘찬도전, 함께하는 우리!! | C32: 학교단체 숙박형 | D32: 해운청소년수련원 | E32: =VLOOKUP(A32,[1]운영현황_NEW!$B$4:$AA$3661,26,0) | F32: =VLOOKUP(G32,[2]변환기준!$D$1:$E$24,2,0) -> 청소년수련시설 | G32: 청소년수련원 | H32: 경상남도 | I32: 대면활동 | J32: 복수해당 | K32: 해당 | L32: 해당 | M32: 수상활동 고무보트 | O32: 자기(인성)계발활동 | P32: 51000 | Q32: 450 | R32: 초 | S32: 2019-03-06 | T32: 2026-03-04 | U32: 2020-12-25 ~ 2021-12-24 | V32: 055-384-0061 | W32: 055-372-7070 | X32: 경상남도 양산시 하북면 삼수온천길 27 해운개발(주) | Y32: 단체모집
A33: 8317 | B33: 한마음? 한마음!(초등학교 2박3일) | C33: 학교단체 숙박형 | D33: 한마음청소년수련원 | E33: =VLOOKUP(A33,[1]운영현황_NEW!$B$4:$AA$3661,26,0) | F33: =VLOOKUP(G33,[2]변환기준!$D$1:$E$24,2,0) -> 청소년수련시설 | G33: 청소년수련원 | H33: 경기도 | I33: 대면활동 | J33: 복수해당 | K33: 해당 | L33: 해당 | M33: 그 밖의 활동 하강레포츠 | O33: 자기(인성)계발활동 | P33: 119500 | Q33: 400 | R33: 초 | S33: 2019-03-06 | T33: 2026-03-04 | U33: 2020-10-12 ~ 2021-10-11 | V33: 031-840-0742 | W33: 031-522-0528 | X33: 경기도 양주시 어둔동 버들로 147-142 천주교의정부제5교구한마음연수원 한마음청소년수련원 | Y33: 단체모집
A34: 8306 | B34: YOUTHMILE 캠프 (중학교 2박3일) | C34: 학교단체 숙박형 | D34: 서천군청소년수련관 | E34: =VLOOKUP(A34,[1]운영현황_NEW!$B$4:$AA$3661,26,0) | F34: =VLOOKUP(G34,[2]변환기준!$D$1:$E$24,2,0) -> 청소년수련시설 | G34: 청소년수련관 | H34: 충청남도 | I34: 대면활동 | J34: 일정규모 | K34: 해당 | L34: 미해당 | O34: 건강·보건활동 | P34: 98000 | Q34: 200 | R34: 중 | S34: 2019-03-06 | T34: 2026-03-04 | U34: 2020-12-25 ~ 2021-12-24 | V34: 041-956-3003 | W34: 041-956-3004 | X34: 충청남도 서천군 장항산단로34번길 60 -23 | Y34: 단체모집
A35: 8298 | B35: 빛솔(빛처럼밝게,솔처럼푸르게)하모니캠프(초등학교 1박2일) | C35: 학교단체 숙박형 | D35: 성산청소년효재단(성산청소년수련원) | E35: =VLOOKUP(A35,[1]운영현황_NEW!$B$4:$AA$3661,26,0) | F35: =VLOOKUP(G35,[2]변환기준!$D$1:$E$24,2,0) -> 청소년수련시설 | G35: 청소년수련원 | H35: 인천광역시 | I35: 대면활동 | J35: 일정규모 | K35: 해당 | L35: 미해당 | O35: 자기(인성)계발활동 | P35: 62000 | Q35: 400 | R35: 초 | S35: 2019-03-06 | T35: 2026-03-04 | U35: 2020-12-25 ~ 2021-12-24 | V35: 032-934-0403 | W35: 032-934-1756 | X35: 인천광역시 강화군 선원면 충렬사로178번길 116 성산청소년수련원 . | Y35: 단체모집
A36: 8297 | B36: 빛솔(빛처럼밝게,솔처럼푸르게)리더십캠프(고등학교1박2일) | C36: 학교단체 숙박형 | D36: 성산청소년효재단(성산청소년수련원) | E36: =VLOOKUP(A36,[1]운영현황_NEW!$B$4:$AA$3661,26,0) | F36: =VLOOKUP(G36,[2]변환기준!$D$1:$E$24,2,0) -> 청소년수련시설 | G36: 청소년수련원 | H36: 인천광역시 | I36: 대면활동 | J36: 일정규모 | K36: 해당 | L36: 미해당 | O36: 자기(인성)계발활동 | P36: 69000 | Q36: 200 | R36: 고 | S36: 2019-03-06 | T36: 2026-03-04 | U36: 2020-12-25 ~ 2021-12-24 | V36: 032-934-0403 | W36: 032-934-1756 | X36: 인천광역시 강화군 선원면 충렬사로178번길 116 성산청소년수련원 . | Y36: 단체모집
A37: 8296 | B37: 빛솔(빛처럼밝게,솔처럼푸르게)리더십캠프(중학교 1박2일) | C37: 학교단체 숙박형 | D37: 성산청소년효재단(성산청소년수련원) | E37: =VLOOKUP(A37,[1]운영현황_NEW!$B$4:$AA$3661,26,0) | F37: =VLOOKUP(G37,[2]변환기준!$D$1:$E$24,2,0) -> 청소년수련시설 | G37: 청소년수련원 | H37: 인천광역시 | I37: 대면활동 | J37: 일정규모 | K37: 해당 | L37: 미해당 | O37: 자기(인성)계발활동 | P37: 66500 | Q37: 200 | R37: 중 | S37: 2019-03-06 | T37: 2026-03-04 | U37: 2020-12-25 ~ 2021-12-24 | V37: 032-934-0403 | W37: 032-934-1756 | X37: 인천광역시 강화군 선원면 충렬사로178번길 116 성산청소년수련원 . | Y37: 단체모집
A38: 8295 | B38: 빛솔(빛처럼밝게,솔처럼푸르게)리더십캠프(초등학교 1박2일) | C38: 학교단체 숙박형 | D38: 성산청소년효재단(성산청소년수련원) | E38: =VLOOKUP(A38,[1]운영현황_NEW!$B$4:$AA$3661,26,0) | F38: =VLOOKUP(G38,[2]변환기준!$D$1:$E$24,2,0) -> 청소년수련시설 | G38: 청소년수련원 | H38: 인천광역시 | I38: 대면활동 | J38: 일정규모 | K38: 해당 | L38: 미해당 | O38: 자기(인성)계발활동 | P38: 62000 | Q38: 200 | R38: 초 | S38: 2019-03-06 | T38: 2026-03-04 | U38: 2020-12-25 ~ 2021-12-24 | V38: 032-934-0403 | W38: 032-934-1756 | X38: 인천광역시 강화군 선원면 충렬사로178번길 116 성산청소년수련원 . | Y38: 단체모집
A39: 8292 | B39: 빛솔(빛처럼밝게,솔처럼푸르게)또래캠프(초등학교 2박3일) | C39: 학교단체 숙박형 | D39: 성산청소년효재단(성산청소년수련원) | E39: =VLOOKUP(A39,[1]운영현황_NEW!$B$4:$AA$3661,26,0) | F39: =VLOOKUP(G39,[2]변환기준!$D$1:$E$24,2,0) -> 청소년수련시설 | G39: 청소년수련원 | H39: 인천광역시 | I39: 대면활동 | J39: 일정규모 | K39: 해당 | L39: 미해당 | O39: 자기(인성)계발활동 | P39: 119000 | Q39: 450 | R39: 초 | S39: 2019-03-06 | T39: 2026-03-04 | U39: 2020-12-25 ~ 2021-12-24 | V39: 032-934-0403 | W39: 032-934-1756 | X39: 인천광역시 강화군 선원면 충렬사로178번길 116 성산청소년수련원 . | Y39: 단체모집
A40: 8343 | B40: 이 Leader 오너라 (중학교 1박2일) | C40: 학교단체 숙박형 | D40: 군산청소년수련관 | E40: =VLOOKUP(A40,[1]운영현황_NEW!$B$4:$AA$3661,26,0) | F40: =VLOOKUP(G40,[2]변환기준!$D$1:$E$24,2,0) -> 청소년수련시설 | G40: 청소년수련관 | H40: 전북특별자치도 | I40: 대면활동 | J40: 해당없음 | K40: 미해당 | L40: 미해당 | O40: 자기(인성)계발활동 | P40: 44000 | Q40: 80 | R40: 중 | S40: 2019-03-06 | T40: 2026-03-04 | U40: 2020-12-29 ~ 2021-12-28 | V40: 063-461-4166 | W40: 063-461-3888 | X40: 전북 군산시 송풍동 청소년회관로 75 | Y40: 단체모집
...
