Workbook

Sheet 운영현황
A1: 인증번호 | B1: 활동명 | C1: 활동유형 | D1: 기관명 | E1: 컨소시엄 기관명 | F1: 기관유형1 | G1: 기관유형 | H1: 지역 | I1: 운영방식 | J1: 의무인증여부 | K1: 일정규모 | L1: 위험도높은활동 | M1: 위험도높은활동 내용 | N1: 안전고려활동 | O1: 활동영역 | P1: 참가비 | Q1: 활동인원 | R1: 대상교급 | S1: 유효기간 시작일자 | T1: 유효기간 종료일자 | U1: 최종 승인된 중지기간 | V1: 기관전화번호 | W1: 기관팩스번호 | X1: 주소 | Y1: 모집방법
A2: 1629 | B2: 청소년의 아름다운 날개짓 `ECO 나비효과` | C2: 기본형 | D2: 부산광역시양정청소년수련관 | E2: =VLOOKUP(A2,[1]운영현황_NEW!$B$4:$AA$3661,26,0) | F2: =VLOOKUP(G2,[2]변환기준!$D$1:$E$24,2,0) -> 청소년수련시설 | G2: 청소년수련관 | H2: 부산광역시 | I2: 대면활동 | J2: 해당없음 | K2: 미해당 | L2: 미해당 | O2: 환경보존활동 | P2: 0 | Q2: 25 | R2: 초 | S2: 2012-06-13 | T2: 2026-06-16 | U2: 2020-10-25 ~ 2021-10-24 | V2: 051-868-0750 | W2: 051-868-1258 | X2: 부산 부산진구 양정2동 260-5번지 부산광역시양정청소년수련관 | Y2: 개별모집
A3: 6448 | B3: 요리 쿡(Cook), 조리 톡(Talk) | C3: 기본형 | D3: 의정부시청소년수련관 | E3: =VLOOKUP(A3,[1]운영현황_NEW!$B$4:$AA$3661,26,0) | F3: =VLOOKUP(G3,[2]변환기준!$D$1:$E$24,2,0) -> 청소년수련시설 | G3: 청소년수련관 | H3: 경기도 | I3: 대면활동 | J3: 해당없음 | K3: 미해당 | L3: 미해당 | O3: 건강·보건활동 | P3: 40000 | Q3: 20 | R3: 초 | S3: 2017-04-06 | T3: 2026-04-28 | U3: ~ | V3: 031-828-9500 | W3: 031-828-9509 | X3: 경기도 의정부시 의정로 27 (의정부동) 의정부시청소년수련관 | Y3: 개별모집
A4: 8159 | B4: 우리들의 도전 그리고 소통(중학교 1박2일) | C4: 학교단체 숙박형 | D4: 속리산알프스청소년수련원 | E4: =VLOOKUP(A4,[1]운영현황_NEW!$B$4:$AA$3661,26,0) | F4: =VLOOKUP(G4,[2]변환기준!$D$1:$E$24,2,0) -> 청소년수련시설 | G4: 청소년수련원 | H4: 충청북도 | I4: 대면활동 | J4: 일정규모 | K4: 해당 | L4: 미해당 | O4: 자기(인성)계발활동 | P4: 58900 | Q4: 390 | R4: 중 | S4: 2019-01-09 | T4: 2026-01-06 | U4: 2020-11-12 ~ 2021-11-11 | V4: 043-544-8800 | W4: 070-7614-3933 | X4: 충청북도 보은군 산외면 산외로 596-28 속리산알프스청소년수련원 | Y4: 단체모집
A5: 8166 | B5: Enioy In 알프스(초등학교 2박3일) | C5: 학교단체 숙박형 | D5: 속리산알프스청소년수련원 | E5: =VLOOKUP(A5,[1]운영현황_NEW!$B$4:$AA$3661,26,0) | F5: =VLOOKUP(G5,[2]변환기준!$D$1:$E$24,2,0) -> 청소년수련시설 | G5: 청소년수련원 | H5: 충청북도 | I5: 대면활동 | J5: 일정규모 | K5: 해당 | L5: 미해당 | O5: 자기(인성)계발활동 | P5: 101000 | Q5: 390 | R5: 초 | S5: 2019-01-09 | T5: 2026-01-07 | U5: 2020-11-12 ~ 2021-11-11 | V5: 043-544-8800 | W5: 070-7614-3933 | X5: 충청북도 보은군 산외면 산외로 596-28 속리산알프스청소년수련원 | Y5: 단체모집
A6: 8147 | B6: 도전하고,화합하고,지혜모아!!(1박2일 고등학교) | C6: 학교단체 숙박형 | D6: 해운청소년수련원 | E6: =VLOOKUP(A6,[1]운영현황_NEW!$B$4:$AA$3661,26,0) | F6: =VLOOKUP(G6,[2]변환기준!$D$1:$E$24,2,0) -> 청소년수련시설 | G6: 청소년수련원 | H6: 경상남도 | I6: 대면활동 | J6: 일정규모 | K6: 해당 | L6: 미해당 | O6: 자기(인성)계발활동 | P6: 57000 | Q6: 300 | R6: 고 | S6: 2019-01-09 | T6: 2026-01-07 | U6: 2020-12-25 ~ 2021-12-24 | V6: 055-384-0061 | W6: 055-372-7070 | X6: 경상남도 양산시 하북면 삼수온천길 27 해운개발(주) | Y6: 단체모집
A7: 8146 | B7: 도전하고,화합하고,지혜모아!! (1박2일 중학교) | C7: 학교단체 숙박형 | D7: 해운청소년수련원 | E7: =VLOOKUP(A7,[1]운영현황_NEW!$B$4:$AA$3661,26,0) | F7: =VLOOKUP(G7,[2]변환기준!$D$1:$E$24,2,0) -> 청소년수련시설 | G7: 청소년수련원 | H7: 경상남도 | I7: 대면활동 | J7: 일정규모 | K7: 해당 | L7: 미해당 | O7: 자기(인성)계발활동 | P7: 56000 | Q7: 300 | R7: 중 | S7: 2019-01-09 | T7: 2026-01-07 | U7: 2020-12-25 ~ 2021-12-24 | V7: 055-384-0061 | W7: 055-372-7070 | X7: 경상남도 양산시 하북면 삼수온천길 27 해운개발(주) | Y7: 단체모집
A8: 8169 | B8: 시대별중급과정 01 (초등학교) | C8: 기본형 | D8: (주)답사친구 | E8: =VLOOKUP(A8,[1]운영현황_NEW!$B$4:$AA$3661,26,0) | F8: =VLOOKUP(G8,[2]변환기준!$D$1:$E$24,2,0) -> 일반 | G8: 영리법인 | H8: 울산광역시 | I8: 대면활동 | J8: 해당없음 | K8: 미해당 | L8: 미해당 | O8: 자기(인성)계발활동 | P8: 225000 | Q8: 40 | R8: 초 | S8: 2019-01-09 | T8: 2026-01-07 | U8: 2020-11-09 ~ 2021-11-08 | V8: 052-223-2279 | W8: 052-267-2279 | X8: 울산광역시 울주군 범서읍 천상1길 20-13 답사친구 | Y8: 개별모집
A9: 8160 | B9: 시대별중급과정 03 (초등학교) | C9: 기본형 | D9: (주)답사친구 | E9: =VLOOKUP(A9,[1]운영현황_NEW!$B$4:$AA$3661,26,0) | F9: =VLOOKUP(G9,[2]변환기준!$D$1:$E$24,2,0) -> 일반 | G9: 영리법인 | H9: 울산광역시 | I9: 대면활동 | J9: 해당없음 | K9: 미해당 | L9: 미해당 | O9: 자기(인성)계발활동 | P9: 225000 | Q9: 40 | R9: 초 | S9: 2019-01-09 | T9: 2026-01-07 | U9: 2020-11-09 ~ 2021-11-08 | V9: 052-223-2279 | W9: 052-267-2279 | X9: 울산광역시 울주군 범서읍 천상1길 20-13 답사친구 | Y9: 개별모집
A10: 8151 | B10: 한양나들이 서울투어 C-1 -덕수궁, 서울시청, 남산골한옥마을- (초등학교) | C10: 기본형 | D10: 콜럼버스 | E10: =VLOOKUP(A10,[1]운영현황_NEW!$B$4:$AA$3661,26,0) | F10: =VLOOKUP(G10,[2]변환기준!$D$1:$E$24,2,0) -> 일반 | G10: 개인사업 | H10: 서울특별시 | I10: 대면활동 | J10: 해당없음 | K10: 미해당 | L10: 미해당 | O10: 문화예술활동 | P10: 15000 | Q10: 130 | R10: 초 | S10: 2019-01-09 | T10: 2026-01-07 | U10: 2020-10-30 ~ 2021-10-29 | V10: 02-2678-0889 | W10: 02-2679-0885 | X10: 서울특별시 강서구 마곡중앙2로 5 (마곡동) 1018호 | Y10: 단체모집
A11: 8150 | B11: 한양나들이 서울투어 B-1 -창덕궁, 서울역사박물관, 서울시청- (초등학교) | C11: 기본형 | D11: 콜럼버스 | E11: =VLOOKUP(A11,[1]운영현황_NEW!$B$4:$AA$3661,26,0) | F11: =VLOOKUP(G11,[2]변환기준!$D$1:$E$24,2,0) -> 일반 | G11: 개인사업 | H11: 서울특별시 | I11: 대면활동 | J11: 해당없음 | K11: 미해당 | L11: 미해당 | O11: 문화예술활동 | P11: 13500 | Q11: 130 | R11: 초 | S11: 2019-01-09 | T11: 2026-01-07 | U11: 2020-10-30 ~ 2021-10-29 | V11: 02-2678-0889 | W11: 02-2679-0885 | X11: 서울특별시 강서구 마곡중앙2로 5 (마곡동) 1018호 | Y11: 단체모집
A12: 8149 | B12: 한양나들이 서울투어 A-1 -경복궁, 남산골한옥마을- (초등학교) | C12: 기본형 | D12: 콜럼버스 | E12: =VLOOKUP(A12,[1]운영현황_NEW!$B$4:$AA$3661,26,0) | F12: =VLOOKUP(G12,[2]변환기준!$D$1:$E$24,2,0) -> 일반 | G12: 개인사업 | H12: 서울특별시 | I12: 대면활동 | J12: 해당없음 | K12: 미해당 | L12: 미해당 | O12: 문화예술활동 | P12: 15000 | Q12: 130 | R12: 초 | S12: 2019-01-09 | T12: 2026-01-07 | U12: 2020-10-30 ~ 2021-10-29 | V12: 02-2678-0889 | W12: 02-2679-0885 | X12: 서울특별시 강서구 마곡중앙2로 5 (마곡동) 1018호 | Y12: 단체모집
A13: 8216 | B13: 붕우유신을 찾아서(초등학교 2박3일) | C13: 학교단체 숙박형 | D13: 부여군청소년수련원 | E13: =VLOOKUP(A13,[1]운영현황_NEW!$B$4:$AA$3661,26,0) | F13: =VLOOKUP(G13,[2]변환기준!$D$1:$E$24,2,0) -> 청소년수련시설 | G13: 청소년수련원 | H13: 충청남도 | I13: 대면활동 | J13: 복수해당 | K13: 해당 | L13: 해당 | M13: 그 밖의 활동 하강레포츠 | O13: 모험개척활동 | P13: 90400 | Q13: 300 | R13: 초 | S13: 2019-02-07 | T13: 2026-01-06 | U13: 2021-04-12 ~ 2022-04-11 | V13: 041-835-5502 | W13: 041-835-5504 | X13: 충청남도 부여군 충화면 가화리 313 부여군청소년수련원 | Y13: 단체모집
A14: 8248 | B14: 힘찬도전, 함께하는 우리!! (중학교 2박3일) | C14: 학교단체 숙박형 | D14: 해운청소년수련원 | E14: =VLOOKUP(A14,[1]운영현황_NEW!$B$4:$AA$3661,26,0) | F14: =VLOOKUP(G14,[2]변환기준!$D$1:$E$24,2,0) -> 청소년수련시설 | G14: 청소년수련원 | H14: 경상남도 | I14: 대면활동 | J14: 복수해당 | K14: 해당 | L14: 해당 | M14: 수상활동 고무보트 | O14: 자기(인성)계발활동 | P14: 94000 | Q14: 450 | R14: 중 | S14: 2019-02-07 | T14: 2026-02-05 | U14: 2020-12-25 ~ 2021-12-24 | V14: 055-384-0061 | W14: 055-372-7070 | X14: 경상남도 양산시 하북면 삼수온천길 27 해운개발(주) | Y14: 단체모집
A15: 8212 | B15: 수련활동의 확실한 행복 (고등학교 1박 2일) | C15: 학교단체 숙박형 | D15: 김포시청소년수련원 | E15: =VLOOKUP(A15,[1]운영현황_NEW!$B$4:$AA$3661,26,0) | F15: =VLOOKUP(G15,[2]변환기준!$D$1:$E$24,2,0) -> 청소년수련시설 | G15: 청소년수련원 | H15: 경기도 | I15: 대면활동 | J15: 복수해당 | K15: 해당 | L15: 해당 | M15: 그 밖의 활동 하강레포츠 | O15: 모험개척활동 | P15: 55500 | Q15: 360 | R15: 고 | S15: 2019-02-07 | T15: 2026-02-05 | U15: 2020-11-22 ~ 2021-11-21 | V15: 070-7542-7505 | W15: 031-989-6710 | X15: 경기도 김포시 월곶면 용강로13번길 38 김포시청소년수련원 | Y15: 단체모집
A16: 8198 | B16: 하나되는 공동체수련활동 유비무환 2형(고등학교 2박3일) | C16: 학교단체 숙박형 | D16: 통영시청소년수련원 | E16: =VLOOKUP(A16,[1]운영현황_NEW!$B$4:$AA$3661,26,0) | F16: =VLOOKUP(G16,[2]변환기준!$D$1:$E$24,2,0) -> 청소년수련시설 | G16: 청소년수련원 | H16: 경상남도 | I16: 대면활동 | J16: 복수해당 | K16: 해당 | L16: 해당 | M16: 수상활동 고무보트 | O16: 모험개척활동 | P16: 105000 | Q16: 400 | R16: 고 | S16: 2019-02-07 | T16: 2026-02-05 | U16: 2020-11-08 ~ 2021-11-07 | V16: 055-646-7925 | W16: 055-641-7942 | X16: 경상남도 통영시 발개로 194 (도남동) 통영시청소년수련원 | Y16: 단체모집
A17: 8188 | B17: 수련활동의 확실한 행복 (고등학교 2박3일) | C17: 학교단체 숙박형 | D17: 김포시청소년수련원 | E17: =VLOOKUP(A17,[1]운영현황_NEW!$B$4:$AA$3661,26,0) | F17: =VLOOKUP(G17,[2]변환기준!$D$1:$E$24,2,0) -> 청소년수련시설 | G17: 청소년수련원 | H17: 경기도 | I17: 대면활동 | J17: 복수해당 | K17: 해당 | L17: 해당 | M17: 그 밖의 활동 하강레포츠 | O17: 기타 | P17: 84800 | Q17: 360 | R17: 고 | S17: 2019-02-07 | T17: 2026-02-05 | U17: 2020-11-22 ~ 2021-11-21 | V17: 070-7542-7505 | W17: 031-989-6710 | X17: 경기도 김포시 월곶면 용강로13번길 38 김포시청소년수련원 | Y17: 단체모집
A18: 8187 | B18: 수련활동의 확실한 행복 (중학교 2박3일) | C18: 학교단체 숙박형 | D18: 김포시청소년수련원 | E18: =VLOOKUP(A18,[1]운영현황_NEW!$B$4:$AA$3661,26,0) | F18: =VLOOKUP(G18,[2]변환기준!$D$1:$E$24,2,0) -> 청소년수련시설 | G18: 청소년수련원 | H18: 경기도 | I18: 대면활동 | J18: 복수해당 | K18: 해당 | L18: 해당 | M18: 그 밖의 활동 하강레포츠 | O18: 모험개척활동 | P18: 82500 | Q18: 360 | R18: 중 | S18: 2019-02-07 | T18: 2026-02-05 | U18: 2020-11-22 ~ 2021-11-21 | V18: 070-7542-7505 | W18: 031-989-6710 | X18: 경기도 김포시 월곶면 용강로13번길 38 김포시청소년수련원 | Y18: 단체모집
A19: 8186 | B19: 수련활동의 확실한 행복 (초등학교 2박3일) | C19: 학교단체 숙박형 | D19: 김포시청소년수련원 | E19: =VLOOKUP(A19,[1]운영현황_NEW!$B$4:$AA$3661,26,0) | F19: =VLOOKUP(G19,[2]변환기준!$D$1:$E$24,2,0) -> 청소년수련시설 | G19: 청소년수련원 | H19: 경기도 | I19: 대면활동 | J19: 복수해당 | K19: 해당 | L19: 해당 | M19: 그 밖의 활동 하강레포츠 | O19: 모험개척활동 | P19: 79400 | Q19: 260 | R19: 초 | S19: 2019-02-07 | T19: 2026-02-05 | U19: 2020-11-22 ~ 2021-11-21 | V19: 070-7542-7505 | W19: 031-989-6710 | X19: 경기도 김포시 월곶면 용강로13번길 38 김포시청소년수련원 | Y19: 단체모집
A20: 8209 | B20: 꿈과 끼를 찾아 떠나는 별새꽃돌 진로과학캠프(중학교 2박3일) | C20: 학교단체 숙박형 | D20: 사단법인 별새꽃돌과학관 | E20: =VLOOKUP(A20,[1]운영현황_NEW!$B$4:$AA$3661,26,0) | F20: =VLOOKUP(G20,[2]변환기준!$D$1:$E$24,2,0) -> 일반 | G20: 비영리법인 | H20: 충청북도 | I20: 대면활동 | J20: 일정규모 | K20: 해당 | L20: 미해당 | O20: 과학정보활동 | P20: 150000 | Q20: 240 | R20: 중 | S20: 2019-02-07 | T20: 2026-02-05 | U20: 2020-12-25 ~ 2021-12-24 | V20: 043-653-6534 | W20: 043-653-1015 | X20: 충북 제천시 봉양읍 옥전리 2리 913번지 | Y20: 단체모집
A21: 8208 | B21: 오감으로 즐기는 별새꽃돌 진로과학캠프(초등학교 2박3일) | C21: 학교단체 숙박형 | D21: 사단법인 별새꽃돌과학관 | E21: =VLOOKUP(A21,[1]운영현황_NEW!$B$4:$AA$3661,26,0) | F21: =VLOOKUP(G21,[2]변환기준!$D$1:$E$24,2,0) -> 일반 | G21: 비영리법인 | H21: 충청북도 | I21: 대면활동 | J21: 일정규모 | K21: 해당 | L21: 미해당 | O21: 과학정보활동 | P21: 140000 | Q21: 240 | R21: 초 | S21: 2019-02-07 | T21: 2026-02-05 | U21: 2020-12-25 ~ 2021-12-24 | V21: 043-653-6534 | W21: 043-653-1015 | X21: 충북 제천시 봉양읍 옥전리 2리 913번지 | Y21: 단체모집
A22: 8207 | B22: 꿈과 끼를 찾아 떠나는 별새꽃돌 과학진로캠프(중학교 1박2일) | C22: 학교단체 숙박형 | D22: 사단법인 별새꽃돌과학관 | E22: =VLOOKUP(A22,[1]운영현황_NEW!$B$4:$AA$3661,26,0) | F22: =VLOOKUP(G22,[2]변환기준!$D$1:$E$24,2,0) -> 일반 | G22: 비영리법인 | H22: 충청북도 | I22: 대면활동 | J22: 일정규모 | K22: 해당 | L22: 미해당 | O22: 과학정보활동 | P22: 75000 | Q22: 240 | R22: 중 | S22: 2019-02-07 | T22: 2026-02-05 | U22: 2020-12-25 ~ 2021-12-24 | V22: 043-653-6534 | W22: 043-653-1015 | X22: 충북 제천시 봉양읍 옥전리 2리 913번지 | Y22: 단체모집
A23: 8206 | B23: 오감으로 즐기는 별새꽃돌 진로과학캠프(초등학교 1박2일) | C23: 학교단체 숙박형 | D23: 사단법인 별새꽃돌과학관 | E23: =VLOOKUP(A23,[1]운영현황_NEW!$B$4:$AA$3661,26,0) | F23: =VLOOKUP(G23,[2]변환기준!$D$1:$E$24,2,0) -> 일반 | G23: 비영리법인 | H23: 충청북도 | I23: 대면활동 | J23: 일정규모 | K23: 해당 | L23: 미해당 | O23: 과학정보활동 | P23: 70000 | Q23: 240 | R23: 초 | S23: 2019-02-07 | T23: 2026-02-05 | U23: 2020-12-25 ~ 2021-12-24 | V23: 043-653-6534 | W23: 043-653-1015 | X23: 충북 제천시 봉양읍 옥전리 2리 913번지 | Y23: 단체모집
A24: 8199 | B24: 하이파이브(초등학교 2박3일) | C24: 학교단체 숙박형 | D24: 영산수련원 | E24: =VLOOKUP(A24,[1]운영현황_NEW!$B$4:$AA$3661,26,0) | F24: =VLOOKUP(G24,[2]변환기준!$D$1:$E$24,2,0) -> 청소년수련시설 | G24: 청소년수련원 | H24: 경기도 | I24: 대면활동 | J24: 일정규모 | K24: 해당 | L24: 미해당 | O24: 자기(인성)계발활동 | P24: 142000 | Q24: 200 | R24: 초 | S24: 2019-02-07 | T24: 2026-02-05 | U24: 2020-12-25 ~ 2021-12-24 | V24: 031-934-7777 | W24: 031-934-7779 | X24: 경기도 파주시 조리읍 등원로391번길 40 영산수련원 | Y24: 단체모집
A25: MD0175 | B25: 단결! 팀빌딩 어드벤처(고등학생) | C25: 개별단위 | D25: 통영시청소년수련원 | E25: =VLOOKUP(A25,[1]운영현황_NEW!$B$4:$AA$3661,26,0) | F25: =VLOOKUP(G25,[2]변환기준!$D$1:$E$24,2,0) -> 청소년수련시설 | G25: 청소년수련원 | H25: 경상남도 | I25: 대면활동 | J25: 해당없음 | K25: 미해당 | L25: 미해당 | O25: 모험개척활동 | Q25: 100 | R25: 고 | S25: 2019-02-07 | T25: 2026-02-05 | U25: 2020-11-08 ~ 2021-11-07 | V25: 055-646-7925 | W25: 055-641-7942 | X25: 경상남도 통영시 발개로 194 (도남동) 통영시청소년수련원 | Y25: 단체모집
A26: MD0174 | B26: 단결! 팀빌딩 어드벤처(중학생) | C26: 개별단위 | D26: 통영시청소년수련원 | E26: =VLOOKUP(A26,[1]운영현황_NEW!$B$4:$AA$3661,26,0) | F26: =VLOOKUP(G26,[2]변환기준!$D$1:$E$24,2,0) -> 청소년수련시설 | G26: 청소년수련원 | H26: 경상남도 | I26: 대면활동 | J26: 해당없음 | K26: 미해당 | L26: 미해당 | O26: 모험개척활동 | Q26: 100 | R26: 중 | S26: 2019-02-07 | T26: 2026-02-05 | U26: 2020-11-08 ~ 2021-11-07 | V26: 055-646-7925 | W26: 055-641-7942 | X26: 경상남도 통영시 발개로 194 (도남동) 통영시청소년수련원 | Y26: 단체모집
A27: 8192 | B27: 역사의 섬, 강화도 (초등학교) | C27: 기본형 | D27: 콜럼버스 | E27: =VLOOKUP(A27,[1]운영현황_NEW!$B$4:$AA$3661,26,0) | F27: =VLOOKUP(G27,[2]변환기준!$D$1:$E$24,2,0) -> 일반 | G27: 개인사업 | H27: 서울특별시 | I27: 대면활동 | J27: 해당없음 | K27: 미해당 | L27: 미해당 | O27: 문화예술활동 | P27: 15000 | Q27: 130 | R27: 초 | S27: 2019-02-07 | T27: 2026-02-05 | U27: 2020-10-30 ~ 2021-10-29 | V27: 02-2678-0889 | W27: 02-2679-0885 | X27: 서울특별시 강서구 마곡중앙2로 5 (마곡동) 1018호 | Y27: 단체모집
A28: 8191 | B28: 세계문화유산 -수원화성- (초등학교) | C28: 기본형 | D28: 콜럼버스 | E28: =VLOOKUP(A28,[1]운영현황_NEW!$B$4:$AA$3661,26,0) | F28: =VLOOKUP(G28,[2]변환기준!$D$1:$E$24,2,0) -> 일반 | G28: 개인사업 | H28: 서울특별시 | I28: 대면활동 | J28: 해당없음 | K28: 미해당 | L28: 미해당 | O28: 문화예술활동 | P28: 14000 | Q28: 130 | R28: 초 | S28: 2019-02-07 | T28: 2026-02-05 | U28: 2020-10-30 ~ 2021-10-29 | V28: 02-2678-0889 | W28: 02-2679-0885 | X28: 서울특별시 강서구 마곡중앙2로 5 (마곡동) 1018호 | Y28: 단체모집
A29: 8305 | B29: 호연지기 백제(중학교 2박3일) | C29: 학교단체 숙박형 | D29: 부여군청소년수련원 | E29: =VLOOKUP(A29,[1]운영현황_NEW!$B$4:$AA$3661,26,0) | F29: =VLOOKUP(G29,[2]변환기준!$D$1:$E$24,2,0) -> 청소년수련시설 | G29: 청소년수련원 | H29: 충청남도 | I29: 대면활동 | J29: 복수해당 | K29: 해당 | L29: 해당 | M29: 그 밖의 활동 하강레포츠 | O29: 모험개척활동 | P29: 89200 | Q29: 400 | R29: 중 | S29: 2019-03-06 | T29: 2026-02-02 | U29: 2021-04-12 ~ 2022-04-11 | V29: 041-835-5502 | W29: 041-835-5504 | X29: 충청남도 부여군 충화면 가화리 313 부여군청소년수련원 | Y29: 단체모집
A30: 8347 | B30: 수련활동으로 확실한 꿈찾기 (고등학교 2박3일) | C30: 학교단체 숙박형 | D30: 김포시청소년수련원 | E30: =VLOOKUP(A30,[1]운영현황_NEW!$B$4:$AA$3661,26,0) | F30: =VLOOKUP(G30,[2]변환기준!$D$1:$E$24,2,0) -> 청소년수련시설 | G30: 청소년수련원 | H30: 경기도 | I30: 대면활동 | J30: 복수해당 | K30: 해당 | L30: 해당 | M30: 그 밖의 활동 하강레포츠 | O30: 직업체험활동 | P30: 99800 | Q30: 360 | R30: 고 | S30: 2019-03-06 | T30: 2026-03-04 | U30: 2020-11-22 ~ 2021-11-21 | V30: 070-7542-7505 | W30: 031-989-6710 | X30: 경기도 김포시 월곶면 용강로13번길 38 김포시청소년수련원 | Y30: 단체모집
A31: 8346 | B31: 수련활동으로 확실한 꿈찾기 (중학교 2박3일) | C31: 학교단체 숙박형 | D31: 김포시청소년수련원 | E31: =VLOOKUP(A31,[1]운영현황_NEW!$B$4:$AA$3661,26,0) | F31: =VLOOKUP(G31,[2]변환기준!$D$1:$E$24,2,0) -> 청소년수련시설 | G31: 청소년수련원 | H31: 경기도 | I31: 대면활동 | J31: 복수해당 | K31: 해당 | L31: 해당 | M31: 그 밖의 활동 하강레포츠 | O31: 직업체험활동 | P31: 97500 | Q31: 360 | R31: 중 | S31: 2019-03-06 | T31: 2026-03-04 | U31: 2020-11-22 ~ 2021-11-21 | V31: 070-7542-7505 | W31: 031-989-6710 | X31: 경기도 김포시 월곶면 용강로13번길 38 김포시청소년수련원 | Y31: 단체모집
A32: 8324 | B32: 힘찬도전, 함께하는 우리!! | C32: 학교단체 숙박형 | D32: 해운청소년수련원 | E32: =VLOOKUP(A32,[1]운영현황_NEW!$B$4:$AA$3661,26,0) | F32: =VLOOKUP(G32,[2]변환기준!$D$1:$E$24,2,0) -> 청소년수련시설 | G32: 청소년수련원 | H32: 경상남도 | I32: 대면활동 | J32: 복수해당 | K32: 해당 | L32: 해당 | M32: 수상활동 고무보트 | O32: 자기(인성)계발활동 | P32: 51000 | Q32: 450 | R32: 초 | S32: 2019-03-06 | T32: 2026-03-04 | U32: 2020-12-25 ~ 2021-12-24 | V32: 055-384-0061 | W32: 055-372-7070 | X32: 경상남도 양산시 하북면 삼수온천길 27 해운개발(주) | Y32: 단체모집
A33: 8317 | B33: 한마음? 한마음!(초등학교 2박3일) | C33: 학교단체 숙박형 | D33: 한마음청소년수련원 | E33: =VLOOKUP(A33,[1]운영현황_NEW!$B$4:$AA$3661,26,0) | F33: =VLOOKUP(G33,[2]변환기준!$D$1:$E$24,2,0) -> 청소년수련시설 | G33: 청소년수련원 | H33: 경기도 | I33: 대면활동 | J33: 복수해당 | K33: 해당 | L33: 해당 | M33: 그 밖의 활동 하강레포츠 | O33: 자기(인성)계발활동 | P33: 119500 | Q33: 400 | R33: 초 | S33: 2019-03-06 | T33: 2026-03-04 | U33: 2020-10-12 ~ 2021-10-11 | V33: 031-840-0742 | W33: 031-522-0528 | X33: 경기도 양주시 어둔동 버들로 147-142 천주교의정부제5교구한마음연수원 한마음청소년수련원 | Y33: 단체모집
A34: 8306 | B34: YOUTHMILE 캠프 (중학교 2박3일) | C34: 학교단체 숙박형 | D34: 서천군청소년수련관 | E34: =VLOOKUP(A34,[1]운영현황_NEW!$B$4:$AA$3661,26,0) | F34: =VLOOKUP(G34,[2]변환기준!$D$1:$E$24,2,0) -> 청소년수련시설 | G34: 청소년수련관 | H34: 충청남도 | I34: 대면활동 | J34: 일정규모 | K34: 해당 | L34: 미해당 | O34: 건강·보건활동 | P34: 98000 | Q34: 200 | R34: 중 | S34: 2019-03-06 | T34: 2026-03-04 | U34: 2020-12-25 ~ 2021-12-24 | V34: 041-956-3003 | W34: 041-956-3004 | X34: 충청남도 서천군 장항산단로34번길 60 -23 | Y34: 단체모집
A35: 8298 | B35: 빛솔(빛처럼밝게,솔처럼푸르게)하모니캠프(초등학교 1박2일) | C35: 학교단체 숙박형 | D35: 성산청소년효재단(성산청소년수련원) | E35: =VLOOKUP(A35,[1]운영현황_NEW!$B$4:$AA$3661,26,0) | F35: =VLOOKUP(G35,[2]변환기준!$D$1:$E$24,2,0) -> 청소년수련시설 | G35: 청소년수련원 | H35: 인천광역시 | I35: 대면활동 | J35: 일정규모 | K35: 해당 | L35: 미해당 | O35: 자기(인성)계발활동 | P35: 62000 | Q35: 400 | R35: 초 | S35: 2019-03-06 | T35: 2026-03-04 | U35: 2020-12-25 ~ 2021-12-24 | V35: 032-934-0403 | W35: 032-934-1756 | X35: 인천광역시 강화군 선원면 충렬사로178번길 116 성산청소년수련원 . | Y35: 단체모집
A36: 8297 | B36: 빛솔(빛처럼밝게,솔처럼푸르게)리더십캠프(고등학교1박2일) | C36: 학교단체 숙박형 | D36: 성산청소년효재단(성산청소년수련원) | E36: =VLOOKUP(A36,[1]운영현황_NEW!$B$4:$AA$3661,26,0) | F36: =VLOOKUP(G36,[2]변환기준!$D$1:$E$24,2,0) -> 청소년수련시설 | G36: 청소년수련원 | H36: 인천광역시 | I36: 대면활동 | J36: 일정규모 | K36: 해당 | L36: 미해당 | O36: 자기(인성)계발활동 | P36: 69000 | Q36: 200 | R36: 고 | S36: 2019-03-06 | T36: 2026-03-04 | U36: 2020-12-25 ~ 2021-12-24 | V36: 032-934-0403 | W36: 032-934-1756 | X36: 인천광역시 강화군 선원면 충렬사로178번길 116 성산청소년수련원 . | Y36: 단체모집
A37: 8296 | B37: 빛솔(빛처럼밝게,솔처럼푸르게)리더십캠프(중학교 1박2일) | C37: 학교단체 숙박형 | D37: 성산청소년효재단(성산청소년수련원) | E37: =VLOOKUP(A37,[1]운영현황_NEW!$B$4:$AA$3661,26,0) | F37: =VLOOKUP(G37,[2]변환기준!$D$1:$E$24,2,0) -> 청소년수련시설 | G37: 청소년수련원 | H37: 인천광역시 | I37: 대면활동 | J37: 일정규모 | K37: 해당 | L37: 미해당 | O37: 자기(인성)계발활동 | P37: 66500 | Q37: 200 | R37: 중 | S37: 2019-03-06 | T37: 2026-03-04 | U37: 2020-12-25 ~ 2021-12-24 | V37: 032-934-0403 | W37: 032-934-1756 | X37: 인천광역시 강화군 선원면 충렬사로178번길 116 성산청소년수련원 . | Y37: 단체모집
A38: 8295 | B38: 빛솔(빛처럼밝게,솔처럼푸르게)리더십캠프(초등학교 1박2일) | C38: 학교단체 숙박형 | D38: 성산청소년효재단(성산청소년수련원) | E38: =VLOOKUP(A38,[1]운영현황_NEW!$B$4:$AA$3661,26,0) | F38: =VLOOKUP(G38,[2]변환기준!$D$1:$E$24,2,0) -> 청소년수련시설 | G38: 청소년수련원 | H38: 인천광역시 | I38: 대면활동 | J38: 일정규모 | K38: 해당 | L38: 미해당 | O38: 자기(인성)계발활동 | P38: 62000 | Q38: 200 | R38: 초 | S38: 2019-03-06 | T38: 2026-03-04 | U38: 2020-12-25 ~ 2021-12-24 | V38: 032-934-0403 | W38: 032-934-1756 | X38: 인천광역시 강화군 선원면 충렬사로178번길 116 성산청소년수련원 . | Y38: 단체모집
A39: 8292 | B39: 빛솔(빛처럼밝게,솔처럼푸르게)또래캠프(초등학교 2박3일) | C39: 학교단체 숙박형 | D39: 성산청소년효재단(성산청소년수련원) | E39: =VLOOKUP(A39,[1]운영현황_NEW!$B$4:$AA$3661,26,0) | F39: =VLOOKUP(G39,[2]변환기준!$D$1:$E$24,2,0) -> 청소년수련시설 | G39: 청소년수련원 | H39: 인천광역시 | I39: 대면활동 | J39: 일정규모 | K39: 해당 | L39: 미해당 | O39: 자기(인성)계발활동 | P39: 119000 | Q39: 450 | R39: 초 | S39: 2019-03-06 | T39: 2026-03-04 | U39: 2020-12-25 ~ 2021-12-24 | V39: 032-934-0403 | W39: 032-934-1756 | X39: 인천광역시 강화군 선원면 충렬사로178번길 116 성산청소년수련원 . | Y39: 단체모집
A40: 8343 | B40: 이 Leader 오너라 (중학교 1박2일) | C40: 학교단체 숙박형 | D40: 군산청소년수련관 | E40: =VLOOKUP(A40,[1]운영현황_NEW!$B$4:$AA$3661,26,0) | F40: =VLOOKUP(G40,[2]변환기준!$D$1:$E$24,2,0) -> 청소년수련시설 | G40: 청소년수련관 | H40: 전북특별자치도 | I40: 대면활동 | J40: 해당없음 | K40: 미해당 | L40: 미해당 | O40: 자기(인성)계발활동 | P40: 44000 | Q40: 80 | R40: 중 | S40: 2019-03-06 | T40: 2026-03-04 | U40: 2020-12-29 ~ 2021-12-28 | V40: 063-461-4166 | W40: 063-461-3888 | X40: 전북 군산시 송풍동 청소년회관로 75 | Y40: 단체모집
A41: 8342 | B41: 이 Leader 오너라 (초등학교 1박2일) | C41: 학교단체 숙박형 | D41: 군산청소년수련관 | E41: =VLOOKUP(A41,[1]운영현황_NEW!$B$4:$AA$3661,26,0) | F41: =VLOOKUP(G41,[2]변환기준!$D$1:$E$24,2,0) -> 청소년수련시설 | G41: 청소년수련관 | H41: 전북특별자치도 | I41: 대면활동 | J41: 해당없음 | K41: 미해당 | L41: 미해당 | O41: 자기(인성)계발활동 | P41: 39000 | Q41: 80 | R41: 초 | S41: 2019-03-06 | T41: 2026-03-04 | U41: 2020-12-29 ~ 2021-12-28 | V41: 063-461-4166 | W41: 063-461-3888 | X41: 전북 군산시 송풍동 청소년회관로 75 | Y41: 단체모집
A42: 8302 | B42: 환경교육 수련활동프로그램 '신(新)과 함께' (중학교 1박2일) | C42: 학교단체 숙박형 | D42: 군산청소년수련관 | E42: =VLOOKUP(A42,[1]운영현황_NEW!$B$4:$AA$3661,26,0) | F42: =VLOOKUP(G42,[2]변환기준!$D$1:$E$24,2,0) -> 청소년수련시설 | G42: 청소년수련관 | H42: 전북특별자치도 | I42: 대면활동 | J42: 해당없음 | K42: 미해당 | L42: 미해당 | O42: 환경보존활동 | P42: 39000 | Q42: 120 | R42: 중 | S42: 2019-03-06 | T42: 2026-03-04 | U42: 2020-12-29 ~ 2021-12-28 | V42: 063-461-4166 | W42: 063-461-3888 | X42: 전북 군산시 송풍동 청소년회관로 75 | Y42: 단체모집
A43: 8301 | B43: 환경교육 수련활동프로그램 '신(新)과 함께' (초등학교 1박2일) | C43: 학교단체 숙박형 | D43: 군산청소년수련관 | E43: =VLOOKUP(A43,[1]운영현황_NEW!$B$4:$AA$3661,26,0) | F43: =VLOOKUP(G43,[2]변환기준!$D$1:$E$24,2,0) -> 청소년수련시설 | G43: 청소년수련관 | H43: 전북특별자치도 | I43: 대면활동 | J43: 해당없음 | K43: 미해당 | L43: 미해당 | O43: 환경보존활동 | P43: 37500 | Q43: 120 | R43: 초 | S43: 2019-03-06 | T43: 2026-03-04 | U43: 2020-12-29 ~ 2021-12-28 | V43: 063-461-4166 | W43: 063-461-3888 | X43: 전북 군산시 송풍동 청소년회관로 75 | Y43: 단체모집
A44: 8409 | B44: 꿈꾸는 드림 스케치 (중학교2박3일 진로) | C44: 학교단체 숙박형 | D44: 해운청소년수련원 | E44: =VLOOKUP(A44,[1]운영현황_NEW!$B$4:$AA$3661,26,0) | F44: =VLOOKUP(G44,[2]변환기준!$D$1:$E$24,2,0) -> 청소년수련시설 | G44: 청소년수련원 | H44: 경상남도 | I44: 대면활동 | J44: 복수해당 | K44: 해당 | L44: 해당 | M44: 수상활동 고무보트 | O44: 자기(인성)계발활동 | P44: 94000 | Q44: 450 | R44: 중 | S44: 2019-04-03 | T44: 2026-04-01 | U44: 2020-12-25 ~ 2021-12-24 | V44: 055-384-0061 | W44: 055-372-7070 | X44: 경상남도 양산시 하북면 삼수온천길 27 해운개발(주) | Y44: 단체모집
A45: MD0270 | B45: 남해금산등반(중학교) | C45: 개별단위 | D45: 남해청소년수련원 | E45: =VLOOKUP(A45,[1]운영현황_NEW!$B$4:$AA$3661,26,0) | F45: =VLOOKUP(G45,[2]변환기준!$D$1:$E$24,2,0) -> 청소년수련시설 | G45: 청소년수련원 | H45: 경상남도 | I45: 대면활동 | J45: 일정규모 | K45: 해당 | L45: 미해당 | O45: 모험개척활동 | Q45: 450 | R45: 중 | S45: 2019-04-03 | T45: 2026-04-01 | U45: 2020-12-25 ~ 2021-12-24 | V45: 055-867-4510 | W45: 055-867-4261 | X45: 경남 남해군 삼동면 금송리 119번지 남해청소년수련원 | Y45: 단체모집
A46: 8374 | B46: 초등학생을 위한 리더십캠프(초등학교 1박2일) | C46: 학교단체 숙박형 | D46: 속리산알프스청소년수련원 | E46: =VLOOKUP(A46,[1]운영현황_NEW!$B$4:$AA$3661,26,0) | F46: =VLOOKUP(G46,[2]변환기준!$D$1:$E$24,2,0) -> 청소년수련시설 | G46: 청소년수련원 | H46: 충청북도 | I46: 대면활동 | J46: 일정규모 | K46: 해당 | L46: 미해당 | O46: 자기(인성)계발활동 | P46: 57900 | Q46: 150 | R46: 초 | S46: 2019-04-03 | T46: 2026-04-01 | U46: 2020-11-12 ~ 2021-11-11 | V46: 043-544-8800 | W46: 070-7614-3933 | X46: 충청북도 보은군 산외면 산외로 596-28 속리산알프스청소년수련원 | Y46: 단체모집
A47: 8380 | B47: [초등학교 2박3일] 하이(High) 리더십 캠프 | C47: 학교단체 숙박형 | D47: 안동시청소년수련원 | F47: 청소년수련시설 | G47: 청소년수련원 | H47: 경상북도 | I47: 대면활동 | J47: 일정규모 | K47: 해당 | L47: 미해당 | O47: 자기(인성)계발활동 | P47: 58000 | Q47: 170 | R47: 초 | S47: 2019-04-03 | T47: 2026-04-01 | U47: 2021-03-01 ~ 2022-02-28 | V47: 054-850-4570 | W47: 054-857-8591 | X47: 경상북도 안동시 남후면 아곡길 971 안동시청소년수련원 | Y47: 단체모집
A48: 8392 | B48: 안성마춤 힐링캠핑(초등학교 1박2일) | C48: 숙박형 | D48: 안성시청(안성시다목적야영장) | E48: =VLOOKUP(A48,[1]운영현황_NEW!$B$4:$AA$3661,26,0) | F48: =VLOOKUP(G48,[2]변환기준!$D$1:$E$24,2,0) -> 청소년수련시설 | G48: 청소년야영장 | H48: 경기도 | I48: 대면활동 | J48: 일정규모 | K48: 해당 | L48: 미해당 | O48: 모험개척활동 | P48: 20500 | Q48: 150 | R48: 초 | S48: 2019-04-03 | T48: 2026-04-02 | U48: 2021-03-20 ~ 2022-03-19 | V48: 0316785399 | W48: 031-678-6839 | X48: 경기도 안성시 죽산면 용설호수길 55-33 안성시다목적야영장 | Y48: 개별모집
A49: 8369 | B49: STS창의과학진로캠프-STS그린스쿨-기후의 습격 지구온난화[1일] | C49: 기본형 | D49: (주)에스티에스연구소 | E49: =VLOOKUP(A49,[1]운영현황_NEW!$B$4:$AA$3661,26,0) | F49: =VLOOKUP(G49,[2]변환기준!$D$1:$E$24,2,0) -> 일반 | G49: 영리법인 | H49: 경기도 | I49: 대면활동 | J49: 해당없음 | K49: 미해당 | L49: 미해당 | O49: 직업체험활동 | P49: 77000 | Q49: 120 | R49: 초,중 | S49: 2019-04-03 | T49: 2026-01-17 | U49: 2020-11-08 ~ 2021-11-07 | V49: 031-295-4360 | W49: 031-8081-4310 | X49: 경기도 수원시 장안구 서부로 2139 (율전동) 6층 6014호(율전동, SK HUB BLUE) | Y49: 개별모집
A50: MD0266 | B50: 펀아처리(Fun Archery) [초등학교] | C50: 개별단위 | D50: 진천군청소년수련원 | E50: =VLOOKUP(A50,[1]운영현황_NEW!$B$4:$AA$3661,26,0) | F50: =VLOOKUP(G50,[2]변환기준!$D$1:$E$24,2,0) -> 청소년수련시설 | G50: 청소년수련원 | H50: 충청북도 | I50: 대면활동 | J50: 해당없음 | K50: 미해당 | L50: 미해당 | O50: 건강·보건활동 | Q50: 100 | R50: 초 | S50: 2019-04-03 | T50: 2026-04-01 | U50: 2020-12-11 ~ 2021-12-10 | V50: 043-539-3814 | W50: 043-532-3591 | X50: 충북 진천군 초평면 화산리 802-4 | Y50: 단체모집
A51: 8411 | B51: 안강-자원봉사로 성장하는 청소년 | C51: 기본형 | D51: 경주시 안강 청소년문화의집 | E51: =VLOOKUP(A51,[1]운영현황_NEW!$B$4:$AA$3661,26,0) | F51: =VLOOKUP(G51,[2]변환기준!$D$1:$E$24,2,0) -> 청소년수련시설 | G51: 청소년문화의집 | H51: 경상북도 | I51: 대면활동 | J51: 해당없음 | K51: 미해당 | L51: 미해당 | O51: 봉사활동 | P51: 0 | Q51: 15 | R51: 중 | S51: 2019-04-03 | T51: 2026-04-01 | U51: 2020-12-11 ~ 2021-12-10 | V51: 054-760-2592 | W51: 054-760-7543 | X51: 경상북도 경주시 안강읍 안현로 1476 안강청소년문화의집 | Y51: 개별모집
A52: 8390 | B52: 리더십 체험학습 중학교 2박3일 | C52: 숙박형 | D52: 김포로그밸리청소년수련원 | E52: =VLOOKUP(A52,[1]운영현황_NEW!$B$4:$AA$3661,26,0) | F52: =VLOOKUP(G52,[2]변환기준!$D$1:$E$24,2,0) -> 청소년수련시설 | G52: 청소년수련원 | H52: 경기도 | I52: 대면활동 | J52: 해당없음 | K52: 미해당 | L52: 미해당 | O52: 자기(인성)계발활동 | P52: 28000 | Q52: 70 | R52: 중 | S52: 2019-04-03 | T52: 2026-04-01 | U52: 2020-11-12 ~ 2021-11-11 | V52: 031-989-9006 | W52: 031-989-9020 | X52: 경기 김포시 대곶면 대벽리 850-2 | Y52: 단체모집
A53: 8370 | B53: STS창의과학진로캠프-생활 속의 분석화학[1일] | C53: 기본형 | D53: (주)에스티에스연구소 | E53: =VLOOKUP(A53,[1]운영현황_NEW!$B$4:$AA$3661,26,0) | F53: =VLOOKUP(G53,[2]변환기준!$D$1:$E$24,2,0) -> 일반 | G53: 영리법인 | H53: 경기도 | I53: 대면활동 | J53: 해당없음 | K53: 미해당 | L53: 미해당 | O53: 직업체험활동 | P53: 77000 | Q53: 120 | R53: 고 | S53: 2019-04-03 | T53: 2026-04-01 | U53: 2020-11-08 ~ 2021-11-07 | V53: 031-295-4360 | W53: 031-8081-4310 | X53: 경기도 수원시 장안구 서부로 2139 (율전동) 6층 6014호(율전동, SK HUB BLUE) | Y53: 개별모집
A54: 8368 | B54: STS창의과학진로캠프- 출동 STS과학수사대[1일] | C54: 기본형 | D54: (주)에스티에스연구소 | E54: =VLOOKUP(A54,[1]운영현황_NEW!$B$4:$AA$3661,26,0) | F54: =VLOOKUP(G54,[2]변환기준!$D$1:$E$24,2,0) -> 일반 | G54: 영리법인 | H54: 경기도 | I54: 대면활동 | J54: 해당없음 | K54: 미해당 | L54: 미해당 | O54: 직업체험활동 | P54: 77000 | Q54: 120 | R54: 초,중 | S54: 2019-04-03 | T54: 2026-04-01 | U54: 2020-11-08 ~ 2021-11-07 | V54: 031-295-4360 | W54: 031-8081-4310 | X54: 경기도 수원시 장안구 서부로 2139 (율전동) 6층 6014호(율전동, SK HUB BLUE) | Y54: 개별모집
A55: 8367 | B55: STS창의과학진로캠프 - 빛으로 물든 화학(1일) | C55: 기본형 | D55: (주)에스티에스연구소 | E55: =VLOOKUP(A55,[1]운영현황_NEW!$B$4:$AA$3661,26,0) | F55: =VLOOKUP(G55,[2]변환기준!$D$1:$E$24,2,0) -> 일반 | G55: 영리법인 | H55: 경기도 | I55: 대면활동 | J55: 해당없음 | K55: 미해당 | L55: 미해당 | O55: 직업체험활동 | P55: 77000 | Q55: 120 | R55: 초,중 | S55: 2019-04-03 | T55: 2026-04-01 | U55: 2020-11-08 ~ 2021-11-07 | V55: 031-295-4360 | W55: 031-8081-4310 | X55: 경기도 수원시 장안구 서부로 2139 (율전동) 6층 6014호(율전동, SK HUB BLUE) | Y55: 개별모집
A56: 8478 | B56: 트레커스(Trekkers) | C56: 이동형 | D56: KT&G 상상마당 논산 | F56: 청소년수련시설 | G56: 청소년수련원 | H56: 충청남도 | I56: 대면활동 | J56: 고위험군 | K56: 미해당 | L56: 해당 | M56: 장거리 걷기활동 10Km 이상 도보이동 | O56: 모험개척활동 | P56: 140000 | Q56: 20 | R56: 중,고,대 | S56: 2019-05-01 | T56: 2026-04-29 | U56: 2020-12-25 ~ 2021-12-24 | V56: 041-734-6984 | W56: 041-734-6985 | X56: 충남 논산시 상월면 한천리 68-7 | Y56: 개별모집
A57: 8466 | B57: 렛츠 고, 렛츠 클라임(고등학교) | C57: 기본형 | D57: 한국등산트레킹지원센터 | E57: =VLOOKUP(A57,[1]운영현황_NEW!$B$4:$AA$3661,26,0) | F57: =VLOOKUP(G57,[2]변환기준!$D$1:$E$24,2,0) -> 일반 | G57: 비영리법인 | H57: 대전광역시 | I57: 대면활동 | J57: 일정규모 | K57: 해당 | L57: 미해당 | O57: 자기(인성)계발활동 | P57: 0 | Q57: 45 | R57: 고 | S57: 2019-05-01 | T57: 2026-04-29 | U57: 2020-11-08 ~ 2021-11-07 | V57: 0426206300 | W57: 033-632-6651 | X57: 대전광역시 대덕구 신상로 67 (비래동) 한국등산트레킹지원센터 2층 | Y57: 단체모집
A58: 8465 | B58: 렛츠 고, 렛츠 클라임 (중학교) | C58: 기본형 | D58: 한국등산트레킹지원센터 | E58: =VLOOKUP(A58,[1]운영현황_NEW!$B$4:$AA$3661,26,0) | F58: =VLOOKUP(G58,[2]변환기준!$D$1:$E$24,2,0) -> 일반 | G58: 비영리법인 | H58: 대전광역시 | I58: 대면활동 | J58: 일정규모 | K58: 해당 | L58: 미해당 | O58: 자기(인성)계발활동 | P58: 0 | Q58: 45 | R58: 중 | S58: 2019-05-01 | T58: 2026-04-29 | U58: 2020-11-08 ~ 2021-11-07 | V58: 0426206300 | W58: 033-632-6651 | X58: 대전광역시 대덕구 신상로 67 (비래동) 한국등산트레킹지원센터 2층 | Y58: 단체모집
A59: 8464 | B59: 렛츠 고, 렛츠 클라임 (초등학교) | C59: 기본형 | D59: 한국등산트레킹지원센터 | E59: =VLOOKUP(A59,[1]운영현황_NEW!$B$4:$AA$3661,26,0) | F59: =VLOOKUP(G59,[2]변환기준!$D$1:$E$24,2,0) -> 일반 | G59: 비영리법인 | H59: 대전광역시 | I59: 대면활동 | J59: 일정규모 | K59: 해당 | L59: 미해당 | O59: 자기(인성)계발활동 | P59: 0 | Q59: 45 | R59: 초 | S59: 2019-05-01 | T59: 2026-04-29 | U59: 2020-11-08 ~ 2021-11-07 | V59: 0426206300 | W59: 033-632-6651 | X59: 대전광역시 대덕구 신상로 67 (비래동) 한국등산트레킹지원센터 2층 | Y59: 단체모집
A60: 8455 | B60: 청소년의 안전하고 건강한 메이크업 문화 조성 "청소년의 미(美)완성" | C60: 기본형 | D60: 의정부시청소년수련관 | E60: =VLOOKUP(A60,[1]운영현황_NEW!$B$4:$AA$3661,26,0) | F60: =VLOOKUP(G60,[2]변환기준!$D$1:$E$24,2,0) -> 청소년수련시설 | G60: 청소년수련관 | H60: 경기도 | I60: 대면활동 | J60: 해당없음 | K60: 미해당 | L60: 미해당 | O60: 자기(인성)계발활동 | P60: 0 | Q60: 15 | R60: 중,고 | S60: 2019-05-01 | T60: 2026-04-28 | U60: ~ | V60: 031-828-9500 | W60: 031-828-9509 | X60: 경기도 의정부시 의정로 27 (의정부동) 의정부시청소년수련관 | Y60: 개별모집
A61: 8500 | B61: 여름캠프"바다야놀자"(1박2일) | C61: 숙박형 | D61: 통영시청소년수련원 | E61: =VLOOKUP(A61,[1]운영현황_NEW!$B$4:$AA$3661,26,0) | F61: =VLOOKUP(G61,[2]변환기준!$D$1:$E$24,2,0) -> 청소년수련시설 | G61: 청소년수련원 | H61: 경상남도 | I61: 대면활동 | J61: 복수해당 | K61: 해당 | L61: 해당 | M61: 수상활동 모터보트 | O61: 모험개척활동 | P61: 85750 | Q61: 200 | R61: 초,중 | S61: 2019-05-29 | T61: 2026-02-09 | U61: 2020-11-08 ~ 2021-11-07 | V61: 055-646-7925 | W61: 055-641-7942 | X61: 경상남도 통영시 발개로 194 (도남동) 통영시청소년수련원 | Y61: 개별모집
A62: 8501 | B62: 여름캠프"바다야놀자"(2박3일) | C62: 숙박형 | D62: 통영시청소년수련원 | E62: =VLOOKUP(A62,[1]운영현황_NEW!$B$4:$AA$3661,26,0) | F62: =VLOOKUP(G62,[2]변환기준!$D$1:$E$24,2,0) -> 청소년수련시설 | G62: 청소년수련원 | H62: 경상남도 | I62: 대면활동 | J62: 복수해당 | K62: 해당 | L62: 해당 | M62: 수상활동 모터보트 | O62: 모험개척활동 | P62: 115500 | Q62: 200 | R62: 초,중 | S62: 2019-05-29 | T62: 2026-02-14 | U62: 2020-11-08 ~ 2021-11-07 | V62: 055-646-7925 | W62: 055-641-7942 | X62: 경상남도 통영시 발개로 194 (도남동) 통영시청소년수련원 | Y62: 개별모집
A63: 8525 | B63: 문화예술프로그램(초등학교_당일) | C63: 기본형 | D63: KT&G 상상마당 논산 | E63: =VLOOKUP(A63,[1]운영현황_NEW!$B$4:$AA$3661,26,0) | F63: =VLOOKUP(G63,[2]변환기준!$D$1:$E$24,2,0) -> 청소년수련시설 | G63: 청소년수련원 | H63: 충청남도 | I63: 대면활동 | J63: 일정규모 | K63: 해당 | L63: 미해당 | O63: 문화예술활동 | P63: 25000 | Q63: 230 | R63: 초 | S63: 2019-05-29 | T63: 2026-05-27 | U63: 2020-12-25 ~ 2021-12-24 | V63: 041-734-6984 | W63: 041-734-6985 | X63: 충남 논산시 상월면 한천리 68-7 | Y63: 단체모집
A64: 8513 | B64: 수상안전(생존수영)프로그램 | C64: 기본형 | D64: 음성군청소년수련원 | E64: =VLOOKUP(A64,[1]운영현황_NEW!$B$4:$AA$3661,26,0) | F64: =VLOOKUP(G64,[2]변환기준!$D$1:$E$24,2,0) -> 청소년수련시설 | G64: 청소년수련원 | H64: 충청북도 | I64: 대면활동 | J64: 해당없음 | K64: 미해당 | L64: 미해당 | N64: 생존수영 | O64: 건강·보건활동 | P64: 25000 | Q64: 80 | R64: 초 | S64: 2019-05-29 | T64: 2026-05-27 | U64: 2020-12-27 ~ 2021-12-26 | V64: 043-877-7502 | W64: 043-877-7503 | X64: 충청북도 음성군 생극면 차생로 310-89 음성군청소년수련원 | Y64: 단체모집
A65: 8511 | B65: 얘들아 준비됐니? | C65: 기본형 | D65: 전라남도청소년성문화센터 | E65: =VLOOKUP(A65,[1]운영현황_NEW!$B$4:$AA$3661,26,0) | F65: =VLOOKUP(G65,[2]변환기준!$D$1:$E$24,2,0) -> 일반 | G65: 기타 | H65: 전라남도 | I65: 대면활동 | J65: 해당없음 | K65: 미해당 | L65: 미해당 | O65: 건강·보건활동 | P65: 0 | Q65: 10 | R65: 초 | S65: 2019-05-29 | T65: 2026-05-28 | U65: ~ | V65: 061-554-1318 | W65: 061-552-3118 | X65: 전남 완도군 군외면 삼두리 96-1 전라남도청소년수련원 1층 | Y65: 개별모집
A66: 8553 | B66: 리더십 체험학습 고등학교 2박3일 | C66: 숙박형 | D66: 김포로그밸리청소년수련원 | E66: =VLOOKUP(A66,[1]운영현황_NEW!$B$4:$AA$3661,26,0) | F66: =VLOOKUP(G66,[2]변환기준!$D$1:$E$24,2,0) -> 청소년수련시설 | G66: 청소년수련원 | H66: 경기도 | I66: 대면활동 | J66: 해당없음 | K66: 미해당 | L66: 미해당 | O66: 자기(인성)계발활동 | P66: 28000 | Q66: 140 | R66: 고 | S66: 2019-06-26 | T66: 2026-06-24 | U66: 2020-11-12 ~ 2021-11-11 | V66: 031-989-9006 | W66: 031-989-9020 | X66: 경기 김포시 대곶면 대벽리 850-2 | Y66: 단체모집
A67: 8552 | B67: 리더십 체험학습 초등학교 2박3일 | C67: 숙박형 | D67: 김포로그밸리청소년수련원 | E67: =VLOOKUP(A67,[1]운영현황_NEW!$B$4:$AA$3661,26,0) | F67: =VLOOKUP(G67,[2]변환기준!$D$1:$E$24,2,0) -> 청소년수련시설 | G67: 청소년수련원 | H67: 경기도 | I67: 대면활동 | J67: 해당없음 | K67: 미해당 | L67: 미해당 | O67: 자기(인성)계발활동 | P67: 28000 | Q67: 140 | R67: 초 | S67: 2019-06-26 | T67: 2026-06-24 | U67: 2020-11-12 ~ 2021-11-11 | V67: 031-989-9006 | W67: 031-989-9020 | X67: 경기 김포시 대곶면 대벽리 850-2 | Y67: 단체모집
A68: 8543 | B68: 손으로 전하는 마음 | C68: 기본형 | D68: 봉화군청소년센터 | E68: =VLOOKUP(A68,[1]운영현황_NEW!$B$4:$AA$3661,26,0) | F68: =VLOOKUP(G68,[2]변환기준!$D$1:$E$24,2,0) -> 청소년수련시설 | G68: 청소년수련관 | H68: 경상북도 | I68: 대면활동 | J68: 해당없음 | K68: 미해당 | L68: 미해당 | O68: 자기(인성)계발활동 | P68: 0 | Q68: 15 | R68: 중,고 | S68: 2019-06-26 | T68: 2026-06-24 | U68: 2021-03-01 ~ 2022-02-28 | V68: 054-679-6685 | W68: 054-679-6279 | X68: 경상북도 봉화군 봉화읍 내성로1길 17-20 봉화군청소년센터 | Y68: 개별모집
A69: 8536 | B69: 하늘사랑캠프 | C69: 숙박형 | D69: 함지골청소년수련관 | E69: =VLOOKUP(A69,[1]운영현황_NEW!$B$4:$AA$3661,26,0) | F69: =VLOOKUP(G69,[2]변환기준!$D$1:$E$24,2,0) -> 청소년수련시설 | G69: 청소년수련관 | H69: 부산광역시 | I69: 대면활동 | J69: 해당없음 | K69: 미해당 | L69: 미해당 | O69: 과학정보활동 | P69: 5000 | Q69: 40 | R69: 초 | S69: 2019-06-26 | T69: 2026-06-24 | U69: 2020-12-25 ~ 2021-12-24 | V69: 051-405-5223 | W69: 051-419-0693 | X69: 부산 영도구 동삼1동 산149-4 | Y69: 개별모집
A70: 8532 | B70: 의병리더십캠프 고등학교1박2일 | C70: 숙박형 | D70: 춘천문화원 | F70: 공공행정 | G70: 공공기관 | H70: 강원특별자치도 | I70: 대면활동 | J70: 해당없음 | K70: 미해당 | L70: 미해당 | O70: 기타 | P70: 30000 | Q70: 60 | R70: 고 | S70: 2019-06-26 | T70: 2026-06-24 | U70: 2020-11-20 ~ 2021-11-19 | V70: 033-264-3980 | W70: 033-264-3981 | X70: 강원도 춘천시 퇴계농공로 40 춘천시여성회관 1층 춘천문화원 | Y70: 개별모집
A71: 8611 | B71: 우리들의 모든날, 모든순간(고등학교 3박4일) | C71: 학교단체 숙박형 | D71: 서해안청소년수련원 | E71: =VLOOKUP(A71,[1]운영현황_NEW!$B$4:$AA$3661,26,0) | F71: =VLOOKUP(G71,[2]변환기준!$D$1:$E$24,2,0) -> 청소년수련시설 | G71: 청소년수련원 | H71: 충청남도 | I71: 대면활동 | J71: 일정규모 | K71: 해당 | L71: 미해당 | O71: 자기(인성)계발활동 | P71: 311000 | Q71: 400 | R71: 고 | S71: 2019-07-24 | T71: 2026-07-22 | U71: 2020-12-25 ~ 2021-12-24 | V71: 041-664-9481 | W71: 041-664-9486 | X71: 충청남도 서산시 운산면 봉운로 951-125 서해안청소년수련원 | Y71: 단체모집
A72: 8618 | B72: 텔로 드론코딩 | C72: 기본형 | D72: 김해청소년센터 | E72: =VLOOKUP(A72,[1]운영현황_NEW!$B$4:$AA$3661,26,0) | F72: =VLOOKUP(G72,[2]변환기준!$D$1:$E$24,2,0) -> 청소년수련시설 | G72: 청소년문화의집 | H72: 경상남도 | I72: 대면활동 | J72: 해당없음 | K72: 미해당 | L72: 미해당 | N72: 드론 | O72: 과학정보활동 | P72: 0 | Q72: 10 | R72: 초 | S72: 2019-07-24 | T72: 2026-07-22 | U72: 2020-12-25 ~ 2021-12-24 | V72: 055-330-4634 | W72: 055-336-4635 | X72: 경남 김해시 구산동 93-4 김해청소년문화의집 | Y72: 개별모집
A73: 8637 | B73: 백제의 기백을 찾아서(초등학교 2박3일) | C73: 학교단체 숙박형 | D73: 부여군청소년수련원 | E73: =VLOOKUP(A73,[1]운영현황_NEW!$B$4:$AA$3661,26,0) | F73: =VLOOKUP(G73,[2]변환기준!$D$1:$E$24,2,0) -> 청소년수련시설 | G73: 청소년수련원 | H73: 충청남도 | I73: 대면활동 | J73: 복수해당 | K73: 해당 | L73: 해당 | M73: 그 밖의 활동 하강레포츠 | O73: 모험개척활동 | P73: 85200 | Q73: 300 | R73: 초 | S73: 2019-08-21 | T73: 2026-07-20 | U73: 2021-04-12 ~ 2022-04-11 | V73: 041-835-5502 | W73: 041-835-5504 | X73: 충청남도 부여군 충화면 가화리 313 부여군청소년수련원 | Y73: 단체모집
A74: 8630 | B74: 한울림2 | C74: 숙박형 | D74: 남해청소년수련원 | E74: =VLOOKUP(A74,[1]운영현황_NEW!$B$4:$AA$3661,26,0) | F74: =VLOOKUP(G74,[2]변환기준!$D$1:$E$24,2,0) -> 청소년수련시설 | G74: 청소년수련원 | H74: 경상남도 | I74: 대면활동 | J74: 복수해당 | K74: 해당 | L74: 해당 | M74: 수상활동 래프팅 | O74: 모험개척활동 | P74: 160000 | Q74: 450 | R74: 고 | S74: 2019-08-21 | T74: 2026-08-19 | U74: 2020-12-25 ~ 2021-12-24 | V74: 055-867-4510 | W74: 055-867-4261 | X74: 경남 남해군 삼동면 금송리 119번지 남해청소년수련원 | Y74: 단체모집
A75: 8636 | B75: 초록아! 놀자(초등학교 1박2일) | C75: 학교단체 숙박형 | D75: 담양군청소년수련원 | E75: =VLOOKUP(A75,[1]운영현황_NEW!$B$4:$AA$3661,26,0) | F75: =VLOOKUP(G75,[2]변환기준!$D$1:$E$24,2,0) -> 청소년수련시설 | G75: 청소년수련원 | H75: 전라남도 | I75: 대면활동 | J75: 일정규모 | K75: 해당 | L75: 미해당 | O75: 환경보존활동 | P75: 34000 | Q75: 200 | R75: 초 | S75: 2019-08-21 | T75: 2026-05-03 | U75: 2020-10-19 ~ 2021-10-18 | V75: 061-381-8361 | W75: 061-381-8362 | X75: 전남 담양군 수북면 대방리 954-8번지 | Y75: 단체모집
A76: 8646 | B76: 문화예술프로그램(중학교_당일) | C76: 기본형 | D76: KT&G 상상마당 논산 | E76: =VLOOKUP(A76,[1]운영현황_NEW!$B$4:$AA$3661,26,0) | F76: =VLOOKUP(G76,[2]변환기준!$D$1:$E$24,2,0) -> 청소년수련시설 | G76: 청소년수련원 | H76: 충청남도 | I76: 대면활동 | J76: 일정규모 | K76: 해당 | L76: 미해당 | O76: 문화예술활동 | P76: 25000 | Q76: 230 | R76: 중 | S76: 2019-08-21 | T76: 2026-08-19 | U76: 2020-12-25 ~ 2021-12-24 | V76: 041-734-6984 | W76: 041-734-6985 | X76: 충남 논산시 상월면 한천리 68-7 | Y76: 단체모집
A77: 8623 | B77: 예절에 마중물을 붓자! | C77: 숙박형 | D77: 사)대한청소년문화체육진흥원 청림서당 | E77: =VLOOKUP(A77,[1]운영현황_NEW!$B$4:$AA$3661,26,0) | F77: =VLOOKUP(G77,[2]변환기준!$D$1:$E$24,2,0) -> 일반 | G77: 비영리법인 | H77: 경상남도 | I77: 대면활동 | J77: 일정규모 | K77: 해당 | L77: 미해당 | O77: 자기(인성)계발활동 | P77: 54000 | Q77: 200 | R77: 초 | S77: 2019-08-21 | T77: 2026-08-19 | U77: 2021-02-01 ~ 2022-01-31 | V77: 055-883-8077 | W77: 055-883-0999 | X77: 경상남도 하동군 청암면 묵계리 1633-1 | Y77: 개별모집
A78: MD0348 | B78: 남해금산등반(고등학교) | C78: 개별단위 | D78: 남해청소년수련원 | E78: =VLOOKUP(A78,[1]운영현황_NEW!$B$4:$AA$3661,26,0) | F78: =VLOOKUP(G78,[2]변환기준!$D$1:$E$24,2,0) -> 청소년수련시설 | G78: 청소년수련원 | H78: 경상남도 | I78: 대면활동 | J78: 일정규모 | K78: 해당 | L78: 미해당 | O78: 모험개척활동 | P78: 0 | Q78: 450 | R78: 고 | S78: 2019-08-21 | T78: 2026-08-19 | U78: 2020-12-25 ~ 2021-12-24 | V78: 055-867-4510 | W78: 055-867-4261 | X78: 경남 남해군 삼동면 금송리 119번지 남해청소년수련원 | Y78: 단체모집
A79: 8622 | B79: 난나CAMP | C79: 숙박형 | D79: 대한불교조계종법륜사 | E79: =VLOOKUP(A79,[1]운영현황_NEW!$B$4:$AA$3661,26,0) | F79: =VLOOKUP(G79,[2]변환기준!$D$1:$E$24,2,0) -> 일반 | G79: 종교기관 | H79: 경기도 | I79: 대면활동 | J79: 해당없음 | K79: 미해당 | L79: 미해당 | O79: 문화예술활동 | P79: 60000 | Q79: 50 | R79: 중 | S79: 2019-08-21 | T79: 2026-08-19 | U79: 2020-08-21 ~ 2021-08-20 | V79: 031-332-5703 | W79: 031-339-1992 | X79: 경기 용인시 처인구 원삼면 고당리 243-2 (문수산 법륜사) | Y79: 단체모집
A80: 8670 | B80: 퇴계선생과 선비정신을 찾아서 - 중학교 1일 (280명) | C80: 기본형 | D80: 도산서원선비문화수련원 | E80: =VLOOKUP(A80,[1]운영현황_NEW!$B$4:$AA$3661,26,0) | F80: =VLOOKUP(G80,[2]변환기준!$D$1:$E$24,2,0) -> 일반 | G80: 비영리법인 | H80: 경상북도 | I80: 대면활동 | J80: 일정규모 | K80: 해당 | L80: 미해당 | O80: 자기(인성)계발활동 | P80: 12000 | Q80: 280 | R80: 중 | S80: 2019-09-18 | T80: 2026-01-06 | U80: 2021-02-22 ~ 2022-02-21 | V80: 054-851-2012 | W80: 054-843-1035 | X80: 경상북도 안동시 백운로 268 -6 (토계리 468-4) | Y80: 단체모집
A81: 8649 | B81: 잣송이 힐링 체험 | C81: 기본형 | D81: 가평힐링캠프 | E81: =VLOOKUP(A81,[1]운영현황_NEW!$B$4:$AA$3661,26,0) | F81: =VLOOKUP(G81,[2]변환기준!$D$1:$E$24,2,0) -> 청소년수련시설 | G81: 청소년야영장 | H81: 경기도 | I81: 대면활동 | J81: 일정규모 | K81: 해당 | L81: 미해당 | O81: 모험개척활동 | P81: 20000 | Q81: 200 | R81: 초 | S81: 2019-09-18 | T81: 2026-09-16 | U81: 2020-12-25 ~ 2021-12-24 | V81: 031-585-6001 | W81: 031-585-6003 | X81: 경기도 가평군 상면 임초리 161 | Y81: 단체모집
A82: 8651 | B82: 기초통합해양체험(초등학교 1박2일) | C82: 학교단체 숙박형 | D82: 국립청소년해양센터 | E82: =VLOOKUP(A82,[1]운영현황_NEW!$B$4:$AA$3661,26,0) | F82: =VLOOKUP(G82,[2]변환기준!$D$1:$E$24,2,0) -> 청소년수련시설 | G82: 청소년수련원 | H82: 경상북도 | I82: 대면활동 | J82: 해당없음 | K82: 미해당 | L82: 미해당 | N82: 생존수영 | O82: 과학정보활동 | P82: 52200 | Q82: 240 | R82: 초 | S82: 2019-09-18 | T82: 2026-09-16 | U82: 2020-12-31 ~ 2021-12-30 | V82: 054-730-8700 | W82: 054-730-8549 | X82: 경북 영덕군 영덕읍 창포리 국립청소년해양센터 | Y82: 단체모집
A83: 8659 | B83: 퇴계선생과 선비정신을 찾아서 - 고등학교 1일 (148명) | C83: 기본형 | D83: 도산서원선비문화수련원 | F83: 일반 | G83: 비영리법인 | H83: 경상북도 | I83: 대면활동 | J83: 해당없음 | K83: 미해당 | L83: 미해당 | O83: 자기(인성)계발활동 | P83: 12000 | Q83: 148 | R83: 고 | S83: 2019-09-18 | T83: 2026-09-16 | U83: 2021-02-22 ~ 2022-02-21 | V83: 054-851-2012 | W83: 054-843-1035 | X83: 경상북도 안동시 백운로 268 -6 (토계리 468-4) | Y83: 단체모집
A84: 8733 | B84: 수련활동으로 확실한 꿈찾기(중학교 1박 2일) | C84: 학교단체 숙박형 | D84: 김포시청소년수련원 | E84: =VLOOKUP(A84,[1]운영현황_NEW!$B$4:$AA$3661,26,0) | F84: =VLOOKUP(G84,[2]변환기준!$D$1:$E$24,2,0) -> 청소년수련시설 | G84: 청소년수련원 | H84: 경기도 | I84: 대면활동 | J84: 고위험군 | K84: 미해당 | L84: 해당 | M84: 그 밖의 활동 하강레포츠 | O84: 직업체험활동 | P84: 62500 | Q84: 360 | R84: 중 | S84: 2019-10-16 | T84: 2026-10-14 | U84: 2020-11-22 ~ 2021-11-21 | V84: 070-7542-7505 | W84: 031-989-6710 | X84: 경기도 김포시 월곶면 용강로13번길 38 김포시청소년수련원 | Y84: 단체모집
A85: 8734 | B85: 수련활동으로 확실한 꿈찾기 (고등학교 1박2일) | C85: 학교단체 숙박형 | D85: 김포시청소년수련원 | E85: =VLOOKUP(A85,[1]운영현황_NEW!$B$4:$AA$3661,26,0) | F85: =VLOOKUP(G85,[2]변환기준!$D$1:$E$24,2,0) -> 청소년수련시설 | G85: 청소년수련원 | H85: 경기도 | I85: 대면활동 | J85: 복수해당 | K85: 해당 | L85: 해당 | M85: 그 밖의 활동 하강레포츠 | O85: 직업체험활동 | P85: 63800 | Q85: 360 | R85: 고 | S85: 2019-10-16 | T85: 2026-10-14 | U85: 2020-11-22 ~ 2021-11-21 | V85: 070-7542-7505 | W85: 031-989-6710 | X85: 경기도 김포시 월곶면 용강로13번길 38 김포시청소년수련원 | Y85: 단체모집
A86: 8735 | B86: 1박2일 가족캠프 - family maker | C86: 숙박형 | D86: 너리굴문화마을엄마청소년수련원 | E86: =VLOOKUP(A86,[1]운영현황_NEW!$B$4:$AA$3661,26,0) | F86: =VLOOKUP(G86,[2]변환기준!$D$1:$E$24,2,0) -> 청소년수련시설 | G86: 청소년수련원 | H86: 경기도 | I86: 대면활동 | J86: 해당없음 | K86: 미해당 | L86: 미해당 | O86: 자기(인성)계발활동 | P86: 108000 | Q86: 120 | R86: 초,기타 | S86: 2019-10-16 | T86: 2026-10-14 | U86: 2020-12-11 ~ 2021-12-10 | V86: 031-675-2171 | W86: 031-675-9681 | X86: 경기 안성시 보개면 신장리 63-1 너리굴문화마을 | Y86: 개별모집
A87: 8726 | B87: 반짝반짝 LED크리스탈플라워 | C87: 기본형 | D87: 예산군청소년수련관 | E87: =VLOOKUP(A87,[1]운영현황_NEW!$B$4:$AA$3661,26,0) | F87: =VLOOKUP(G87,[2]변환기준!$D$1:$E$24,2,0) -> 청소년수련시설 | G87: 청소년수련관 | H87: 충청남도 | I87: 대면활동 | J87: 해당없음 | K87: 미해당 | L87: 미해당 | O87: 문화예술활동 | P87: 0 | Q87: 10 | R87: 초 | S87: 2019-10-16 | T87: 2026-10-14 | U87: 2020-12-25 ~ 2021-12-24 | V87: 041-331-8228 | W87: 041-331-8448 | X87: 충청남도 예산군 예산읍 벚꽃로 214-17 예산군청소년수련관 | Y87: 개별모집
A88: 8797 | B88: 생거진천 깨소금 캠프 Ⅱ | C88: 기본형 | D88: 진천군청소년수련원 | E88: =VLOOKUP(A88,[1]운영현황_NEW!$B$4:$AA$3661,26,0) | F88: =VLOOKUP(G88,[2]변환기준!$D$1:$E$24,2,0) -> 청소년수련시설 | G88: 청소년수련원 | H88: 충청북도 | I88: 대면활동 | J88: 복수해당 | K88: 해당 | L88: 해당 | M88: 복수 해당 직접입력(집라인, 고무보트) | O88: 모험개척활동 | P88: 20000 | Q88: 180 | R88: 초,중,고 | S88: 2019-11-13 | T88: 2026-11-11 | U88: 2020-12-11 ~ 2021-12-10 | V88: 043-539-3814 | W88: 043-532-3591 | X88: 충북 진천군 초평면 화산리 802-4 | Y88: 개별모집
A89: 8855 | B89: '자연에 놀다' (중학교 2박 3일 캠프) | C89: 학교단체 숙박형 | D89: 영양군청소년수련원 | E89: =VLOOKUP(A89,[1]운영현황_NEW!$B$4:$AA$3661,26,0) | F89: =VLOOKUP(G89,[2]변환기준!$D$1:$E$24,2,0) -> 청소년수련시설 | G89: 청소년수련원 | H89: 경상북도 | I89: 대면활동 | J89: 일정규모 | K89: 해당 | L89: 미해당 | O89: 자기(인성)계발활동 | P89: 43000 | Q89: 200 | R89: 중 | S89: 2019-11-13 | T89: 2026-11-11 | U89: 2020-10-21 ~ 2021-10-20 | V89: 054-680-5320 | W89: 054-680-5319 | X89: 경상북도 영양군 수비면 반딧불이로 227 영양군청소년수련원 | Y89: 단체모집
A90: 8789 | B90: STS창의과학진로캠프-생명공학으로 보는 우리들의 미래(1일) | C90: 기본형 | D90: (주)에스티에스연구소 | E90: =VLOOKUP(A90,[1]운영현황_NEW!$B$4:$AA$3661,26,0) | F90: =VLOOKUP(G90,[2]변환기준!$D$1:$E$24,2,0) -> 일반 | G90: 영리법인 | H90: 경기도 | I90: 대면활동 | J90: 해당없음 | K90: 미해당 | L90: 미해당 | O90: 직업체험활동 | P90: 77000 | Q90: 120 | R90: 초,중 | S90: 2019-11-13 | T90: 2026-08-30 | U90: 2020-11-08 ~ 2021-11-07 | V90: 031-295-4360 | W90: 031-8081-4310 | X90: 경기도 수원시 장안구 서부로 2139 (율전동) 6층 6014호(율전동, SK HUB BLUE) | Y90: 개별모집
A91: 8812 | B91: 사랑듬뿍 봉사가득(고등학교) | C91: 기본형 | D91: 경주시 안강 청소년문화의집 | E91: =VLOOKUP(A91,[1]운영현황_NEW!$B$4:$AA$3661,26,0) | F91: =VLOOKUP(G91,[2]변환기준!$D$1:$E$24,2,0) -> 청소년수련시설 | G91: 청소년문화의집 | H91: 경상북도 | I91: 대면활동 | J91: 해당없음 | K91: 미해당 | L91: 미해당 | O91: 봉사활동 | P91: 0 | Q91: 15 | R91: 고 | S91: 2019-11-13 | T91: 2026-11-11 | U91: 2020-12-11 ~ 2021-12-10 | V91: 054-760-2592 | W91: 054-760-7543 | X91: 경상북도 경주시 안강읍 안현로 1476 안강청소년문화의집 | Y91: 개별모집
A92: 8807 | B92: 소문난 리더십캠프 (초등학교 1박2일) | C92: 학교단체 숙박형 | D92: 영산수련원 | E92: =VLOOKUP(A92,[1]운영현황_NEW!$B$4:$AA$3661,26,0) | F92: =VLOOKUP(G92,[2]변환기준!$D$1:$E$24,2,0) -> 청소년수련시설 | G92: 청소년수련원 | H92: 경기도 | I92: 대면활동 | J92: 해당없음 | K92: 미해당 | L92: 미해당 | O92: 자기(인성)계발활동 | P92: 78000 | Q92: 100 | R92: 초 | S92: 2019-11-13 | T92: 2026-11-11 | U92: 2020-12-25 ~ 2021-12-24 | V92: 031-934-7777 | W92: 031-934-7779 | X92: 경기도 파주시 조리읍 등원로391번길 40 영산수련원 | Y92: 단체모집
A93: 8790 | B93: STS창의과학진로캠프 -미래의 희망,Biotechnology(1일) | C93: 기본형 | D93: (주)에스티에스연구소 | E93: =VLOOKUP(A93,[1]운영현황_NEW!$B$4:$AA$3661,26,0) | F93: =VLOOKUP(G93,[2]변환기준!$D$1:$E$24,2,0) -> 일반 | G93: 영리법인 | H93: 경기도 | I93: 대면활동 | J93: 해당없음 | K93: 미해당 | L93: 미해당 | O93: 직업체험활동 | P93: 77000 | Q93: 120 | R93: 고 | S93: 2019-11-13 | T93: 2026-11-11 | U93: 2020-11-08 ~ 2021-11-07 | V93: 031-295-4360 | W93: 031-8081-4310 | X93: 경기도 수원시 장안구 서부로 2139 (율전동) 6층 6014호(율전동, SK HUB BLUE) | Y93: 개별모집
A94: 8785 | B94: 안녕(安寧)하십니까? | C94: 기본형 | D94: 경산시계림청소년수련원 | E94: =VLOOKUP(A94,[1]운영현황_NEW!$B$4:$AA$3661,26,0) | F94: =VLOOKUP(G94,[2]변환기준!$D$1:$E$24,2,0) -> 청소년수련시설 | G94: 청소년수련원 | H94: 경상북도 | I94: 대면활동 | J94: 해당없음 | K94: 미해당 | L94: 미해당 | O94: 건강·보건활동 | P94: 0 | Q94: 30 | R94: 중 | S94: 2019-11-13 | T94: 2026-11-11 | U94: 2020-09-28 ~ 2021-09-27 | V94: 053-856-7278 | W94: 053-856-7279 | X94: 경상북도 경산시 자인면 일연로 311-6 경산시계림청소년수련원 | Y94: 단체모집
A95: 8903 | B95: 21세기 선비를 꿈꾸다(고등학교, 2박 3일) | C95: 숙박형 | D95: 사)대한청소년문화체육진흥원 청림서당 | E95: =VLOOKUP(A95,[1]운영현황_NEW!$B$4:$AA$3661,26,0) | F95: =VLOOKUP(G95,[2]변환기준!$D$1:$E$24,2,0) -> 일반 | G95: 비영리법인 | H95: 경상남도 | I95: 대면활동 | J95: 일정규모 | K95: 해당 | L95: 미해당 | O95: 자기(인성)계발활동 | P95: 98000 | Q95: 200 | R95: 고 | S95: 2019-12-11 | T95: 2026-12-09 | U95: 2021-02-01 ~ 2022-01-31 | V95: 055-883-8077 | W95: 055-883-0999 | X95: 경상남도 하동군 청암면 묵계리 1633-1 | Y95: 개별모집
A96: 8919 | B96: 화랑도 통일 체험활동(중학교 2박3일) | C96: 학교단체 숙박형 | D96: 경주시 화랑마을 | F96: 청소년수련시설 | G96: 청소년수련원 | H96: 경상북도 | I96: 대면활동 | J96: 일정규모 | K96: 해당 | L96: 미해당 | O96: 자기(인성)계발활동 | P96: 90000 | Q96: 300 | R96: 중 | S96: 2019-12-11 | T96: 2026-12-09 | U96: 2020-10-05 ~ 2021-10-04 | V96: 0547602430 | W96: 0547617583 | X96: 경상북도 경주시 석현로 123 (석장동) 화백관 2층 수련활동팀 | Y96: 단체모집
A97: 8905 | B97: '우리가 주인공'(초등학교) | C97: 기본형 | D97: 대구광역시청소년수련원 | F97: 청소년수련시설 | G97: 청소년수련원 | H97: 대구광역시 | I97: 대면활동 | J97: 일정규모 | K97: 해당 | L97: 미해당 | O97: 문화예술활동 | P97: 10000 | Q97: 260 | R97: 초 | S97: 2019-12-11 | T97: 2026-12-09 | U97: 2020-10-16 ~ 2021-10-15 | V97: 053-656-6655 | W97: 053-653-2054 | X97: 대구광역시 달서구 앞산순환로 180 (송현동) 대구광역시청소년수련원 | Y97: 단체모집
A98: 8930 | B98: 우리동네 안전 지킴이 | C98: 기본형 | D98: 강화군시설관리공단(강화군청소년수련관) | F98: =VLOOKUP(G98,[3]변환기준!$D$1:$E$24,2,0) -> 청소년수련시설 | G98: 청소년수련관 | H98: 인천광역시 | I98: 대면활동 | J98: 해당없음 | K98: 미해당 | L98: 미해당 | O98: 건강·보건활동 | P98: 0 | Q98: 30 | R98: 중,고 | S98: 2019-12-11 | T98: 2025-12-31 | U98: 2020-10-21 ~ 2021-10-20 | V98: 0329307098 | W98: 05042698595 | X98: 인천광역시 강화군 강화읍 강화대로 154 강화군청소년수련관 | Y98: =VLOOKUP(A98,'[4]인증활동-운영현황'!$E$5:$H$10363,4,0) -> 개별모집
A99: 8915 | B99: 우리동네 youth-up 생존체험활동 | C99: 기본형 | D99: 방산 문화의집 | E99: =VLOOKUP(A99,[1]운영현황_NEW!$B$4:$AA$3661,26,0) | F99: =VLOOKUP(G99,[2]변환기준!$D$1:$E$24,2,0) -> 청소년수련시설 | G99: 청소년문화의집 | H99: 강원특별자치도 | I99: 대면활동 | J99: 해당없음 | K99: 미해당 | L99: 미해당 | O99: 건강·보건활동 | P99: 0 | Q99: 12 | R99: 초,중 | S99: 2019-12-11 | T99: 2026-01-05 | U99: 2020-10-30 ~ 2021-10-29 | V99: 033-480-4868 | W99: 000-000-0000 | X99: 강원도 양구군 방산면 장거리길 35-10 장평리 265-7 | Y99: 개별모집
A100: 8997 | B100: 나의 색 살리기-임원(초등학교 1박2일) | C100: 학교단체 숙박형 | D100: 서해안청소년수련원 | E100: =VLOOKUP(A100,[1]운영현황_NEW!$B$4:$AA$3661,26,0) | F100: =VLOOKUP(G100,[2]변환기준!$D$1:$E$24,2,0) -> 청소년수련시설 | G100: 청소년수련원 | H100: 충청남도 | I100: 대면활동 | J100: 일정규모 | K100: 해당 | L100: 미해당 | O100: 자기(인성)계발활동 | P100: 100000 | Q100: 200 | R100: 초 | S100: 2020-02-05 | T100: 2027-02-03 | U100: 2020-12-25 ~ 2021-12-24 | V100: 041-664-9481 | W100: 041-664-9486 | X100: 충청남도 서산시 운산면 봉운로 951-125 서해안청소년수련원 | Y100: 단체모집
...
